BEGIN:VCALENDAR
VERSION:2.0
PRODID:-//Events | FID-Recht//NONSGML Events//EN
CALSCALE:GREGORIAN
X-ORIGINAL-URL:https://events.intrecht.de/termine/
X-WR-CALDESC:Events | FID-Recht - Events
BEGIN:VEVENT
UID:20220303T0920Z-1646299239.4177-EO-6054-1@172.16.200.141
STATUS:CONFIRMED
DTSTAMP:20260425T211728Z
CREATED:20220223T100113Z
LAST-MODIFIED:20220223T100113Z
DTSTART;VALUE=DATE:20221026
DTEND;VALUE=DATE:20221029
SUMMARY: Between Deviance and Marginalization. Gendered Perspectives on Tra
 nsnational Crime (Workshop)
DESCRIPTION: 26.-28.10.2022\, Erfurt (Frist für Einreichungen: 13.5.2022) B
 etween Deviance and Marginalization. Gendered Perspectives on Transnational
  Crime | H-Soz-Kult. Kommunikation und Fachinformation für die Geschichtswi
 ssenschaften | Geschichte im Netz | History in the web (hsozkult.de)  
X-ALT-DESC;FMTTYPE=text/html: <p>26.-28.10.2022\, Erfurt (Frist für Einreic
 hungen: 13.5.2022)</p><p><a href="https://www.hsozkult.de/event/id/event-11
 5995">Between Deviance and Marginalization. Gendered Perspectives on Transn
 ational Crime | H-Soz-Kult. Kommunikation und Fachinformation für die Gesch
 ichtswissenschaften | Geschichte im Netz | History in the web (hsozkult.de)
 </a></p><p> </p><p>[av_button label='iCal-Export' link='./feed/eo-events' l
 ink_target='' size='small' position='center' label_display='' title_attr=''
  icon_select='yes' icon='ue85b' font='entypo-fontello' color='custom' custo
 m_bg='#b5123e' custom_font='#ffffff' av_uid='' id='' custom_class='' admin_
 preview_bg='']</p>
CATEGORIES:Strafrecht
LOCATION:Inland
GEO:0.000000;0.000000
ORGANIZER;CN="ViFa-Recht":MAILTO:vifa-recht@sbb.spk-berlin.de
URL;VALUE=URI:https://events.intrecht.de/termine/termin/between-deviance-an
 d-marginalization-gendered-perspectives-on-transnational-crime-workshop/
END:VEVENT
BEGIN:VTIMEZONE
TZID:Europe/Berlin
BEGIN:DAYLIGHT
TZOFFSETFROM:+0100
TZOFFSETTO:+0200
DTSTART:20220327T010000
TZNAME:CEST
END:DAYLIGHT
END:VTIMEZONE
END:VCALENDAR
