BEGIN:VCALENDAR
VERSION:2.0
PRODID:-//Events | FID-Recht//NONSGML Events//EN
CALSCALE:GREGORIAN
X-ORIGINAL-URL:https://events.intrecht.de/termine/
X-WR-CALDESC:Events | FID-Recht - Events
BEGIN:VEVENT
UID:20210917T1730Z-1631899807.2842-EO-4712-1@172.16.200.141
STATUS:CONFIRMED
DTSTAMP:20260423T004643Z
CREATED:20210914T174939Z
LAST-MODIFIED:20210914T174939Z
DTSTART;VALUE=DATE:20210901
DTEND;VALUE=DATE:20210901
SUMMARY: Berlin Winter School on The Laws and Politics of (In)Security and 
 Social Cohesion – An Interdisciplinary Conversation (Winter School) (CfA)
DESCRIPTION: 1.-3.12.2021\, Berlin (Bewerbungsfrist: 1.9.2021) CfA: Berlin 
 Winter School on The Laws and Politics of (In)Security and Social Cohesion 
 – An Interdisciplinary Conversation — Integrative Research Institute Law & 
 Society (LSI) (hu-berlin.de)  
X-ALT-DESC;FMTTYPE=text/html: <p>1.-3.12.2021\, Berlin (Bewerbungsfrist: 1.
 9.2021)</p><p><a href="https://www.rewi.hu-berlin.de/de/lf/oe/lsi/neuigkeit
 en-1/cfa-berlin-winter-school-on-the-laws-and-politics-of-in-security-and-s
 ocial-cohesion-an-interdisciplinary-conversation">CfA: Berlin Winter School
  on The Laws and Politics of (In)Security and Social Cohesion – An Interdis
 ciplinary Conversation — Integrative Research Institute Law & Society (LSI)
  (hu-berlin.de)</a></p><p> </p><p>[av_button label='iCal-Export' link='./fe
 ed/eo-events' link_target='' size='small' position='center' label_display='
 ' title_attr='' icon_select='yes' icon='ue85b' font='entypo-fontello' color
 ='custom' custom_bg='#b5123e' custom_font='#ffffff' av_uid='' id='' custom_
 class='' admin_preview_bg='']</p>
CATEGORIES:Recht interdisziplinär
LOCATION:Inland
GEO:0.000000;0.000000
ORGANIZER;CN="ViFa-Recht":MAILTO:vifa-recht@sbb.spk-berlin.de
URL;VALUE=URI:https://events.intrecht.de/termine/termin/berlin-winter-schoo
 l-on-the-laws-and-politics-of-insecurity-and-social-cohesion-an-interdiscip
 linary-conversation-winter-school-cfa/
END:VEVENT
BEGIN:VTIMEZONE
TZID:Europe/Berlin
BEGIN:DAYLIGHT
TZOFFSETFROM:+0100
TZOFFSETTO:+0200
DTSTART:20210328T010000
TZNAME:CEST
END:DAYLIGHT
END:VTIMEZONE
END:VCALENDAR
