BEGIN:VCALENDAR
VERSION:2.0
PRODID:-//Events | FID-Recht//NONSGML Events//EN
CALSCALE:GREGORIAN
X-ORIGINAL-URL:https://events.intrecht.de/termine/
X-WR-CALDESC:Events | FID-Recht - Events
BEGIN:VEVENT
UID:20221018T1645Z-1666111524.4593-EO-6636-1@172.16.200.151
STATUS:CONFIRMED
DTSTAMP:20260423T085127Z
CREATED:20221017T102506Z
LAST-MODIFIED:20221017T102547Z
DTSTART;VALUE=DATE:20221102
DTEND;VALUE=DATE:20230126
SUMMARY: Bekannte Jurist*innen im Austausch mit dem wissenschaftlichen Nach
 wuchs (Digitale Kamingespräche)
DESCRIPTION: Mit a.D. Dr. Christine Windbichler\, LL.M. (Berkeley) am 2.11.
 2022 / Online Dr. Dr. h.c. mult. Karsten Schmidt am 23.11.2022 / Online Dr.
  Dr. h.c. Barbara Dauner-Lieb am 7.12.2022 / Online Dr. Marc-Philippe Welle
 r am 25.1.2023 / Online Anmeldung: kamingespraeche@law-school.de  
X-ALT-DESC;FMTTYPE=text/html: <p>Mit</p><ul><li>a.D. Dr. Christine Windbich
 ler\, LL.M. (Berkeley) am 2.11.2022 / Online</li><li>Dr. Dr. h.c. mult. Kar
 sten Schmidt am 23.11.2022 / Online</li><li>Dr. Dr. h.c. Barbara Dauner-Lie
 b am 7.12.2022 / Online</li><li>Dr. Marc-Philippe Weller am 25.1.2023 / Onl
 ine</li></ul><p><strong>Anmeldung:</strong> <a href="mailto:kamingespraeche
 @law-school.de">kamingespraeche@law-school.de</a></p><p> </p><p>[av_button 
 label='iCal-Export' link='./feed/eo-events' link_target='' size='small' pos
 ition='center' label_display='' title_attr='' icon_select='yes' icon='ue85b
 ' font='entypo-fontello' color='custom' custom_bg='#b5123e' custom_font='#f
 fffff' av_uid='' id='' custom_class='' admin_preview_bg='']</p>
CATEGORIES:Recht interdisziplinär
LOCATION:Online
GEO:0.000000;0.000000
ORGANIZER;CN="ViFa-Recht":MAILTO:vifa-recht@sbb.spk-berlin.de
URL;VALUE=URI:https://events.intrecht.de/termine/termin/bekannte-juristinne
 n-im-austausch-mit-dem-wissenschaftlichen-nachwuchs-digitale-kamingespraech
 e/
END:VEVENT
BEGIN:VTIMEZONE
TZID:Europe/Berlin
BEGIN:STANDARD
TZOFFSETFROM:+0200
TZOFFSETTO:+0100
DTSTART:20221030T010000
TZNAME:CET
END:STANDARD
END:VTIMEZONE
END:VCALENDAR
