BEGIN:VCALENDAR
VERSION:2.0
PRODID:-//Events | FID-Recht//NONSGML Events//EN
CALSCALE:GREGORIAN
X-ORIGINAL-URL:https://events.intrecht.de/termine/
X-WR-CALDESC:Events | FID-Recht - Events
BEGIN:VEVENT
UID:20230107T0317Z-1673061464.4049-EO-7905-1@172.16.200.151
STATUS:CONFIRMED
DTSTAMP:20260421T184118Z
CREATED:20230104T141736Z
LAST-MODIFIED:20230104T141736Z
DTSTART;VALUE=DATE:20230118
DTEND;VALUE=DATE:20230119
SUMMARY: Being Kenyan – On Voting\, Clubbing\, and Dying in Nairobi (Abendk
 olloquium)
DESCRIPTION: 18.1.2023 / Berlin https://www.wiko-berlin.de/veranstaltungen/
 veranstaltungskalender/2023-01-18-being-kenyan-on-voting-clubbing-and-dying
 -in-nairobi  
X-ALT-DESC;FMTTYPE=text/html: <p>18.1.2023 / Berlin</p><p><a href="https://
 www.wiko-berlin.de/veranstaltungen/veranstaltungskalender/2023-01-18-being-
 kenyan-on-voting-clubbing-and-dying-in-nairobi">https://www.wiko-berlin.de/
 veranstaltungen/veranstaltungskalender/2023-01-18-being-kenyan-on-voting-cl
 ubbing-and-dying-in-nairobi</a></p><p> </p><p>[av_button label='iCal-Export
 ' link='./feed/eo-events' link_target='' size='small' position='center' lab
 el_display='' title_attr='' icon_select='yes' icon='ue85b' font='entypo-fon
 tello' color='custom' custom_bg='#b5123e' custom_font='#ffffff' av_uid='' i
 d='' custom_class='' admin_preview_bg='']</p>
CATEGORIES:Recht interdisziplinär
LOCATION:Inland
GEO:0.000000;0.000000
ORGANIZER;CN="ViFa-Recht":MAILTO:vifa-recht@sbb.spk-berlin.de
URL;VALUE=URI:https://events.intrecht.de/termine/termin/being-kenyan-on-vot
 ing-clubbing-and-dying-in-nairobi-abendkolloquium/
END:VEVENT
BEGIN:VTIMEZONE
TZID:Europe/Berlin
BEGIN:STANDARD
TZOFFSETFROM:+0200
TZOFFSETTO:+0100
DTSTART:20221030T010000
TZNAME:CET
END:STANDARD
END:VTIMEZONE
END:VCALENDAR
