BEGIN:VCALENDAR
VERSION:2.0
PRODID:-//Events | FID-Recht//NONSGML Events//EN
CALSCALE:GREGORIAN
X-ORIGINAL-URL:https://events.intrecht.de/termine/
X-WR-CALDESC:Events | FID-Recht - Events
BEGIN:VEVENT
UID:20211219T0151Z-1639878678.3333-EO-4748-1@172.16.200.141
STATUS:CONFIRMED
DTSTAMP:20260421T133926Z
CREATED:20211216T131725Z
LAST-MODIFIED:20220207T172135Z
DTSTART;VALUE=DATE:20220310
DTEND;VALUE=DATE:20220311
SUMMARY: VERSCHOBEN: Behindert das (deutsche) Recht die zeithistorische For
 schung? (Max Planck Lecture in Legal History and Legal Theory mit Jan Thies
 sen) (Vortrag)
DESCRIPTION: 10.3.2022\, Frankfurt (Main) – NEUER TERMIN: wird noch bekannt
  gegeben Max Planck Lecture in Legal History and Legal Theory | Max-Planck-
 Institut für Rechtsgeschichte und Rechtstheorie (mpg.de)  
X-ALT-DESC;FMTTYPE=text/html: <p>10.3.2022\, Frankfurt (Main) – NEUER TERMI
 N: wird noch bekannt gegeben</p><p><a href="https://www.lhlt.mpg.de/2684712
 /event-21-11-03-max-planck-lecture">Max Planck Lecture in Legal History and
  Legal Theory | Max-Planck-Institut für Rechtsgeschichte und Rechtstheorie 
 (mpg.de)</a></p><p> </p><p>[av_button label='iCal-Export' link='./feed/eo-e
 vents' link_target='' size='small' position='center' label_display='' title
 _attr='' icon_select='yes' icon='ue85b' font='entypo-fontello' color='custo
 m' custom_bg='#b5123e' custom_font='#ffffff' av_uid='' id='' custom_class='
 ' admin_preview_bg='']</p>
CATEGORIES:Recht interdisziplinär
LOCATION:Inland
GEO:0.000000;0.000000
ORGANIZER;CN="ViFa-Recht":MAILTO:vifa-recht@sbb.spk-berlin.de
URL;VALUE=URI:https://events.intrecht.de/termine/termin/behindert-das-deuts
 che-recht-die-zeithistorische-forschung-max-planck-lecture-in-legal-history
 -and-legal-theory-mit-jan-thiessen-vortrag/
END:VEVENT
BEGIN:VTIMEZONE
TZID:Europe/Berlin
BEGIN:STANDARD
TZOFFSETFROM:+0200
TZOFFSETTO:+0100
DTSTART:20211031T010000
TZNAME:CET
END:STANDARD
END:VTIMEZONE
END:VCALENDAR
