BEGIN:VCALENDAR
VERSION:2.0
PRODID:-//Events | FID-Recht//NONSGML Events//EN
CALSCALE:GREGORIAN
X-ORIGINAL-URL:https://events.intrecht.de/termine/
X-WR-CALDESC:Events | FID-Recht - Events
BEGIN:VEVENT
UID:20200603T1418Z-1591193923.3362-EO-587-1@172.16.200.141
STATUS:CONFIRMED
DTSTAMP:20260423T021435Z
CREATED:20250617T093858Z
LAST-MODIFIED:20250617T093858Z
DTSTART;VALUE=DATE:20251009
DTEND;VALUE=DATE:20251010
SUMMARY: Begrenzte Strafverfolgung im grenzenlosen Datenraum? (Bayreuther I
 T-Strafrechtstag)
DESCRIPTION: 9.10.2025 / Bayreuth https://strafrechtskalender.de/event/2-ba
 yreuther-it-strafrechtstag/
X-ALT-DESC;FMTTYPE=text/html: <p>9.10.2025 / Bayreuth</p><p><a href="https:
 //strafrechtskalender.de/event/2-bayreuther-it-strafrechtstag/">https://str
 afrechtskalender.de/event/2-bayreuther-it-strafrechtstag/</a></p><p>[av_but
 ton label='iCal-Export' link='./feed/eo-events' link_target='' size='small'
  position='center' label_display='' title_attr='' icon_select='yes' icon='u
 e85b' font='entypo-fontello' color='custom' custom_bg='#b5123e' custom_font
 ='#ffffff' av_uid='' id='' custom_class='' admin_preview_bg='']</p>
CATEGORIES:Strafrecht
LOCATION:Inland
GEO:0.000000;0.000000
ORGANIZER;CN="ViFa-Recht":MAILTO:vifa-recht@sbb.spk-berlin.de
URL;VALUE=URI:https://events.intrecht.de/termine/termin/begrenzte-strafverf
 olgung-im-grenzenlosen-datenraum-bayreuther-it-strafrechtstag/
END:VEVENT
BEGIN:VTIMEZONE
TZID:Europe/Berlin
BEGIN:DAYLIGHT
TZOFFSETFROM:+0100
TZOFFSETTO:+0200
DTSTART:20250330T010000
TZNAME:CEST
END:DAYLIGHT
END:VTIMEZONE
END:VCALENDAR
