BEGIN:VCALENDAR
VERSION:2.0
PRODID:-//Events | FID-Recht//NONSGML Events//EN
CALSCALE:GREGORIAN
X-ORIGINAL-URL:https://events.intrecht.de/termine/
X-WR-CALDESC:Events | FID-Recht - Events
BEGIN:VEVENT
UID:20201216T2113Z-1608153217.7544-EO-2777-1@172.16.200.141
STATUS:CONFIRMED
DTSTAMP:20260423T005638Z
CREATED:20201211T184612Z
LAST-MODIFIED:20201211T184612Z
DTSTART;VALUE=DATE:20210131
DTEND;VALUE=DATE:20210131
SUMMARY: Before the state – International law and politico-legal pluralism 
 in Europe (Konferenzreihe) (CfP)
DESCRIPTION: 20.9.2021\, Rom/18.-19.5.2022\, Lille/Kortrijk (Frist für Einr
 eichungen: 31.1.2021) http://esilhil.blogspot.com/2020/12/call-for-papers-b
 efore-state.html    
X-ALT-DESC;FMTTYPE=text/html: <p>20.9.2021\, Rom/18.-19.5.2022\, Lille/Kort
 rijk (Frist für Einreichungen: 31.1.2021)</p><p><a href="http://esilhil.blo
 gspot.com/2020/12/call-for-papers-before-state.html">http://esilhil.blogspo
 t.com/2020/12/call-for-papers-before-state.html</a></p><p><strong> </strong
 ></p><p> </p><p>[av_button label='iCal-Export' link='./feed/eo-events' link
 _target='' size='small' position='center' label_display='' title_attr='' ic
 on_select='yes' icon='ue85b' font='entypo-fontello' color='custom' custom_b
 g='#b5123e' custom_font='#ffffff' av_uid='' id='' custom_class='' admin_pre
 view_bg='']</p>
CATEGORIES:Europäisches / Internationales Recht
LOCATION:Ausland
GEO:0.000000;0.000000
ORGANIZER;CN="ViFa-Recht":MAILTO:vifa-recht@sbb.spk-berlin.de
URL;VALUE=URI:https://events.intrecht.de/termine/termin/before-the-state-in
 ternational-law-and-politico-legal-pluralism-in-europe-konferenzreihe-cfp/
END:VEVENT
BEGIN:VTIMEZONE
TZID:Europe/Berlin
BEGIN:STANDARD
TZOFFSETFROM:+0200
TZOFFSETTO:+0100
DTSTART:20201025T010000
TZNAME:CET
END:STANDARD
END:VTIMEZONE
END:VCALENDAR
