BEGIN:VCALENDAR
VERSION:2.0
PRODID:-//Events | FID-Recht//NONSGML Events//EN
CALSCALE:GREGORIAN
X-ORIGINAL-URL:https://events.intrecht.de/termine/
X-WR-CALDESC:Events | FID-Recht - Events
BEGIN:VEVENT
UID:20230107T0822Z-1673079753.0645-EO-7913-1@172.16.200.151
STATUS:CONFIRMED
DTSTAMP:20260421T170141Z
CREATED:20230104T141925Z
LAST-MODIFIED:20230104T141925Z
DTSTART;VALUE=DATE:20230118
DTEND;VALUE=DATE:20230119
SUMMARY: Beethoven im Gepäck – Mit Beethoven im Exil (Vortrag)
DESCRIPTION: 18.1.2023 / Frankfurt am Main https://www.fritz-bauer-institut
 .de/veranstaltungen/veranstaltung/beethoven-im-gepaeck  
X-ALT-DESC;FMTTYPE=text/html: <p>18.1.2023 / Frankfurt am Main</p><p><a hre
 f="https://www.fritz-bauer-institut.de/veranstaltungen/veranstaltung/beetho
 ven-im-gepaeck">https://www.fritz-bauer-institut.de/veranstaltungen/veranst
 altung/beethoven-im-gepaeck</a></p><p> </p><p>[av_button label='iCal-Export
 ' link='./feed/eo-events' link_target='' size='small' position='center' lab
 el_display='' title_attr='' icon_select='yes' icon='ue85b' font='entypo-fon
 tello' color='custom' custom_bg='#b5123e' custom_font='#ffffff' av_uid='' i
 d='' custom_class='' admin_preview_bg='']</p>
CATEGORIES:Recht interdisziplinär
LOCATION:Inland
GEO:0.000000;0.000000
ORGANIZER;CN="ViFa-Recht":MAILTO:vifa-recht@sbb.spk-berlin.de
URL;VALUE=URI:https://events.intrecht.de/termine/termin/beethoven-im-gepaec
 k-mit-beethoven-im-exil-vortrag/
END:VEVENT
BEGIN:VTIMEZONE
TZID:Europe/Berlin
BEGIN:STANDARD
TZOFFSETFROM:+0200
TZOFFSETTO:+0100
DTSTART:20221030T010000
TZNAME:CET
END:STANDARD
END:VTIMEZONE
END:VCALENDAR
