BEGIN:VCALENDAR
VERSION:2.0
PRODID:-//Events | FID-Recht//NONSGML Events//EN
CALSCALE:GREGORIAN
X-ORIGINAL-URL:https://events.intrecht.de/termine/
X-WR-CALDESC:Events | FID-Recht - Events
BEGIN:VEVENT
UID:20200603T1418Z-1591193923.3362-EO-587-1@172.16.200.141
STATUS:CONFIRMED
DTSTAMP:20260422T050345Z
CREATED:20240920T152214Z
LAST-MODIFIED:20240920T152214Z
DTSTART;VALUE=DATE:20241106
DTEND;VALUE=DATE:20241107
SUMMARY: Bedrohte Demokratie in den Kommunen (35. Bad Iburger Gespräche)
DESCRIPTION: 6.11.2024 / Osnabrück (Anmeldefrist: 28.10.2024) https://www.i
 svwr.uni-osnabrueck.de/fileadmin/user_upload/Einladung_35_Bad_Iburger_Gespr
 aeche_2024.pdf
X-ALT-DESC;FMTTYPE=text/html: <p>6.11.2024 / Osnabrück <strong>(Anmeldefris
 t: 28.10.2024)</strong></p><p><a href="https://www.isvwr.uni-osnabrueck.de/
 fileadmin/user_upload/Einladung_35_Bad_Iburger_Gespraeche_2024.pdf">https:/
 /www.isvwr.uni-osnabrueck.de/fileadmin/user_upload/Einladung_35_Bad_Iburger
 _Gespraeche_2024.pdf</a></p><p>[av_button label='iCal-Export' link='./feed/
 eo-events' link_target='' size='small' position='center' label_display='' t
 itle_attr='' icon_select='yes' icon='ue85b' font='entypo-fontello' color='c
 ustom' custom_bg='#b5123e' custom_font='#ffffff' av_uid='' id='' custom_cla
 ss='' admin_preview_bg='']</p>
CATEGORIES:Öffentliches Recht
LOCATION:Inland
GEO:0.000000;0.000000
ORGANIZER;CN="ViFa-Recht":MAILTO:vifa-recht@sbb.spk-berlin.de
URL;VALUE=URI:https://events.intrecht.de/termine/termin/bedrohte-demokratie
 -in-den-kommunen-35-bad-iburger-gespraeche/
END:VEVENT
BEGIN:VTIMEZONE
TZID:Europe/Berlin
BEGIN:STANDARD
TZOFFSETFROM:+0200
TZOFFSETTO:+0100
DTSTART:20241027T010000
TZNAME:CET
END:STANDARD
END:VTIMEZONE
END:VCALENDAR
