BEGIN:VCALENDAR
VERSION:2.0
PRODID:-//Events | FID-Recht//NONSGML Events//EN
CALSCALE:GREGORIAN
X-ORIGINAL-URL:https://events.intrecht.de/termine/
X-WR-CALDESC:Events | FID-Recht - Events
BEGIN:VEVENT
UID:20221102T0626Z-1667370375.181-EO-6897-1@172.16.200.151
STATUS:CONFIRMED
DTSTAMP:20260421T133326Z
CREATED:20221031T142210Z
LAST-MODIFIED:20221031T142210Z
DTSTART;VALUE=DATE:20230205
DTEND;VALUE=DATE:20230211
SUMMARY: Basel Winter Arbitration School
DESCRIPTION: 5.-10.2.2023 / Online und Basel https://voelkerrechtsblog.org/
 events/basel-winter-arbitration-school/  
X-ALT-DESC;FMTTYPE=text/html: <p>5.-10.2.2023 / Online und Basel</p><p><a h
 ref="https://voelkerrechtsblog.org/events/basel-winter-arbitration-school/"
 >https://voelkerrechtsblog.org/events/basel-winter-arbitration-school/</a><
 /p><p> </p><p>[av_button label='iCal-Export' link='./feed/eo-events' link_t
 arget='' size='small' position='center' label_display='' title_attr='' icon
 _select='yes' icon='ue85b' font='entypo-fontello' color='custom' custom_bg=
 '#b5123e' custom_font='#ffffff' av_uid='' id='' custom_class='' admin_previ
 ew_bg='']</p>
CATEGORIES:Zivilrecht
LOCATION:Online
GEO:0.000000;0.000000
ORGANIZER;CN="ViFa-Recht":MAILTO:vifa-recht@sbb.spk-berlin.de
URL;VALUE=URI:https://events.intrecht.de/termine/termin/basel-winter-arbitr
 ation-school/
END:VEVENT
BEGIN:VTIMEZONE
TZID:Europe/Berlin
BEGIN:STANDARD
TZOFFSETFROM:+0200
TZOFFSETTO:+0100
DTSTART:20221030T010000
TZNAME:CET
END:STANDARD
END:VTIMEZONE
END:VCALENDAR
