BEGIN:VCALENDAR
VERSION:2.0
PRODID:-//Events | FID-Recht//NONSGML Events//EN
CALSCALE:GREGORIAN
X-ORIGINAL-URL:https://events.intrecht.de/termine/
X-WR-CALDESC:Events | FID-Recht - Events
BEGIN:VEVENT
UID:20200603T1418Z-1591193923.3362-EO-587-1@172.16.200.141
STATUS:CONFIRMED
DTSTAMP:20260425T180953Z
CREATED:20230912T115516Z
LAST-MODIFIED:20230912T115516Z
DTSTART;VALUE=DATE:20240205
DTEND;VALUE=DATE:20240210
SUMMARY: Basel Winter Arbitration School
DESCRIPTION: 5.-9.2.2024 / Online und Basel https://arbitrationlab.com/prog
 ram/basel-winter-arbitration-school/?fbclid=IwAR2DtMNWemIcmoiT9qNM81IpBuILI
 exqerlDxfaNZ7g_mK5pPTvbFxY9Zr0
X-ALT-DESC;FMTTYPE=text/html: <p>5.-9.2.2024 / Online und Basel</p><p><a hr
 ef="https://arbitrationlab.com/program/basel-winter-arbitration-school/?fbc
 lid=IwAR2DtMNWemIcmoiT9qNM81IpBuILIexqerlDxfaNZ7g_mK5pPTvbFxY9Zr0">https://
 arbitrationlab.com/program/basel-winter-arbitration-school/?fbclid=IwAR2DtM
 NWemIcmoiT9qNM81IpBuILIexqerlDxfaNZ7g_mK5pPTvbFxY9Zr0</a></p><p>[av_button 
 label='iCal-Export' link='./feed/eo-events' link_target='' size='small' pos
 ition='center' label_display='' title_attr='' icon_select='yes' icon='ue85b
 ' font='entypo-fontello' color='custom' custom_bg='#b5123e' custom_font='#f
 fffff' av_uid='' id='' custom_class='' admin_preview_bg='']</p>
CATEGORIES:Recht interdisziplinär
LOCATION:Online
GEO:0.000000;0.000000
ORGANIZER;CN="ViFa-Recht":MAILTO:vifa-recht@sbb.spk-berlin.de
URL;VALUE=URI:https://events.intrecht.de/termine/termin/basel-winter-arbitr
 ation-school-2/
END:VEVENT
BEGIN:VTIMEZONE
TZID:Europe/Berlin
BEGIN:STANDARD
TZOFFSETFROM:+0200
TZOFFSETTO:+0100
DTSTART:20231029T010000
TZNAME:CET
END:STANDARD
END:VTIMEZONE
END:VCALENDAR
