BEGIN:VCALENDAR
VERSION:2.0
PRODID:-//Events | FID-Recht//NONSGML Events//EN
CALSCALE:GREGORIAN
X-ORIGINAL-URL:https://events.intrecht.de/termine/
X-WR-CALDESC:Events | FID-Recht - Events
BEGIN:VEVENT
UID:20200603T1418Z-1591193923.3362-EO-587-1@172.16.200.141
STATUS:CONFIRMED
DTSTAMP:20260423T003223Z
CREATED:20240726T123642Z
LAST-MODIFIED:20240726T123814Z
DTSTART;VALUE=DATE:20241202
DTEND;VALUE=DATE:20241205
SUMMARY: Balancing Contradicting Human Rights Obligations in Armed Conflict
 s and Counter Terrorism (International Workshop)
DESCRIPTION: 2.-4.12.2024 / Prag (Einreichungsfrist: 12.8.2024) https://min
 ervaxtremelaw.haifa.ac.il/2024/07/10/balancing-contradicting-human-rights-o
 bligations-in-armed-conflicts-and-counter-terrorism-7th-young-researchers-w
 orkshop-call-for-submissions/
X-ALT-DESC;FMTTYPE=text/html: <p>2.-4.12.2024 / Prag <strong>(Einreichungsf
 rist: 12.8.2024)</strong></p><p><a href="https://minervaxtremelaw.haifa.ac.
 il/2024/07/10/balancing-contradicting-human-rights-obligations-in-armed-con
 flicts-and-counter-terrorism-7th-young-researchers-workshop-call-for-submis
 sions/">https://minervaxtremelaw.haifa.ac.il/2024/07/10/balancing-contradic
 ting-human-rights-obligations-in-armed-conflicts-and-counter-terrorism-7th-
 young-researchers-workshop-call-for-submissions/</a></p><p>[av_button label
 ='iCal-Export' link='./feed/eo-events' link_target='' size='small' position
 ='center' label_display='' title_attr='' icon_select='yes' icon='ue85b' fon
 t='entypo-fontello' color='custom' custom_bg='#b5123e' custom_font='#ffffff
 ' av_uid='' id='' custom_class='' admin_preview_bg='']</p>
CATEGORIES:Europäisches / Internationales Recht
LOCATION:Ausland
GEO:0.000000;0.000000
ORGANIZER;CN="ViFa-Recht":MAILTO:vifa-recht@sbb.spk-berlin.de
URL;VALUE=URI:https://events.intrecht.de/termine/termin/balancing-contradic
 ting-human-rights-obligations-in-armed-conflicts-and-counter-terrorism-inte
 rnational-workshop/
END:VEVENT
BEGIN:VTIMEZONE
TZID:Europe/Berlin
BEGIN:STANDARD
TZOFFSETFROM:+0200
TZOFFSETTO:+0100
DTSTART:20241027T010000
TZNAME:CET
END:STANDARD
END:VTIMEZONE
END:VCALENDAR
