BEGIN:VCALENDAR
VERSION:2.0
PRODID:-//Events | FID-Recht//NONSGML Events//EN
CALSCALE:GREGORIAN
X-ORIGINAL-URL:https://events.intrecht.de/termine/
X-WR-CALDESC:Events | FID-Recht - Events
BEGIN:VEVENT
UID:20200602T0945Z-1591091115.9737-EO-599-1@172.16.200.141
STATUS:CONFIRMED
DTSTAMP:20260423T055906Z
CREATED:20251210T092939Z
LAST-MODIFIED:20251210T092939Z
DTSTART;VALUE=DATE:20261005
DTEND;VALUE=DATE:20261008
SUMMARY: Backsliding\, Resilience\, Renewal? Democracy in Eras of Transform
 ation (Zweiter internationaler Kongress für Politische Theorie)
DESCRIPTION: 5.-7.10.2026 / Passau (Einreichungsfrist: 15.12.2025) https://
 www.uni-passau.de/backsliding-resilience-renewal/call-for-papers
X-ALT-DESC;FMTTYPE=text/html: <p>5.-7.10.2026 / Passau <strong>(Einreichung
 sfrist: 15.12.2025)</strong></p><p><a href="https://www.uni-passau.de/backs
 liding-resilience-renewal/call-for-papers">https://www.uni-passau.de/backsl
 iding-resilience-renewal/call-for-papers</a></p><p>[av_button label='iCal-E
 xport' link='./feed/eo-events' link_target='' size='small' position='center
 ' label_display='' title_attr='' icon_select='yes' icon='ue85b' font='entyp
 o-fontello' color='custom' custom_bg='#b5123e' custom_font='#ffffff' av_uid
 ='' id='' custom_class='' admin_preview_bg='']</p>
CATEGORIES:Recht interdisziplinär
LOCATION:Inland
GEO:0.000000;0.000000
ORGANIZER;CN="ViFa-Recht":MAILTO:vifa-recht@sbb.spk-berlin.de
URL;VALUE=URI:https://events.intrecht.de/termine/termin/backsliding-resilie
 nce-renewal-democracy-in-eras-of-transformation-zweiter-internationaler-kon
 gress-fuer-politische-theorie/
END:VEVENT
BEGIN:VTIMEZONE
TZID:Europe/Berlin
BEGIN:DAYLIGHT
TZOFFSETFROM:+0100
TZOFFSETTO:+0200
DTSTART:20260329T010000
TZNAME:CEST
END:DAYLIGHT
END:VTIMEZONE
END:VCALENDAR
