BEGIN:VCALENDAR
VERSION:2.0
PRODID:-//Events | FID-Recht//NONSGML Events//EN
CALSCALE:GREGORIAN
X-ORIGINAL-URL:https://events.intrecht.de/termine/
X-WR-CALDESC:Events | FID-Recht - Events
BEGIN:VEVENT
UID:20200927T1757Z-1601229467.6771-EO-1639-1@172.16.200.141
STATUS:CONFIRMED
DTSTAMP:20260421T220507Z
CREATED:20200925T181721Z
LAST-MODIFIED:20200925T181721Z
DTSTART;VALUE=DATE:20210520
DTEND;VALUE=DATE:20210522
SUMMARY: Back to Beginnings: Revisiting the Preambles of European Treaties 
 (4th YELS Conference) (Konferenz)
DESCRIPTION: 20.-21.5.2021\, Zürich https://www.ivr.uzh.ch/de/yels.html  
X-ALT-DESC;FMTTYPE=text/html: <p>20.-21.5.2021\, Zürich</p><p><a href="http
 s://www.ivr.uzh.ch/de/yels.html">https://www.ivr.uzh.ch/de/yels.html</a></p
 ><p> </p><p>[av_button label='iCal-Export' link='./feed/eo-events' link_tar
 get='' size='small' position='center' label_display='' title_attr='' icon_s
 elect='yes' icon='ue85b' font='entypo-fontello' color='custom' custom_bg='#
 b5123e' custom_font='#ffffff' av_uid='' id='' custom_class='' admin_preview
 _bg='']</p>
CATEGORIES:Europäisches / Internationales Recht
LOCATION:Ausland
GEO:0.000000;0.000000
ORGANIZER;CN="ViFa-Recht":MAILTO:vifa-recht@sbb.spk-berlin.de
URL;VALUE=URI:https://events.intrecht.de/termine/termin/back-to-beginnings-
 revisiting-the-preambles-of-european-treaties-4th-yels-conference-konferenz
 /
END:VEVENT
BEGIN:VTIMEZONE
TZID:Europe/Berlin
BEGIN:DAYLIGHT
TZOFFSETFROM:+0100
TZOFFSETTO:+0200
DTSTART:20210328T010000
TZNAME:CEST
END:DAYLIGHT
END:VTIMEZONE
END:VCALENDAR
