BEGIN:VCALENDAR
VERSION:2.0
PRODID:-//Events | FID-Recht//NONSGML Events//EN
CALSCALE:GREGORIAN
X-ORIGINAL-URL:https://events.intrecht.de/termine/
X-WR-CALDESC:Events | FID-Recht - Events
BEGIN:VEVENT
UID:20210302T1315Z-1614690946.765-EO-2535-1@172.16.200.141
STATUS:CONFIRMED
DTSTAMP:20260421T102548Z
CREATED:20210126T184726Z
LAST-MODIFIED:20210126T185004Z
DTSTART;TZID=Europe/Berlin:20210201T180000
DTEND;TZID=Europe/Berlin:20210201T193000
SUMMARY: Autonomy as Non-Alienation\, Autonomy as Sovereignty\, and Politic
 s (with David Enoch) (Online-Vortrag)
DESCRIPTION: 1.2.2021\, Online https://oxjuris.com/seminars/  
X-ALT-DESC;FMTTYPE=text/html: <p>1.2.2021\, Online</p><p><a href="https://o
 xjuris.com/seminars/">https://oxjuris.com/seminars/</a></p><p> </p><p>[av_b
 utton label='iCal-Export' link='./feed/eo-events' link_target='' size='smal
 l' position='center' label_display='' title_attr='' icon_select='yes' icon=
 'ue85b' font='entypo-fontello' color='custom' custom_bg='#b5123e' custom_fo
 nt='#ffffff' av_uid='' id='' custom_class='' admin_preview_bg='']</p>
CATEGORIES:Recht interdisziplinär
LOCATION:Online
GEO:0.000000;0.000000
ORGANIZER;CN="ViFa-Recht":MAILTO:vifa-recht@sbb.spk-berlin.de
URL;VALUE=URI:https://events.intrecht.de/termine/termin/autonomy-as-non-ali
 enation-autonomy-as-sovereignty-and-politics-with-david-enoch-online-vortra
 g/
END:VEVENT
BEGIN:VTIMEZONE
TZID:Europe/Berlin
BEGIN:STANDARD
TZOFFSETFROM:+0200
TZOFFSETTO:+0100
DTSTART:20201025T010000
TZNAME:CET
END:STANDARD
END:VTIMEZONE
END:VCALENDAR
