BEGIN:VCALENDAR
VERSION:2.0
PRODID:-//Events | FID-Recht//NONSGML Events//EN
CALSCALE:GREGORIAN
X-ORIGINAL-URL:https://events.intrecht.de/termine/
X-WR-CALDESC:Events | FID-Recht - Events
BEGIN:VEVENT
UID:20200603T1418Z-1591193923.3362-EO-587-1@172.16.200.141
STATUS:CONFIRMED
DTSTAMP:20260425T162352Z
CREATED:20231025T095612Z
LAST-MODIFIED:20231025T095612Z
DTSTART;VALUE=DATE:20231106
DTEND;VALUE=DATE:20231107
SUMMARY: Automating human rights adjudication (Vortrag)
DESCRIPTION: 6.11.2023 / Berlin https://www.hertie-school.org/en/events/eve
 nt-detail/event/automating-human-rights-adjudication
X-ALT-DESC;FMTTYPE=text/html: <p>6.11.2023 / Berlin</p><p><a href="https://
 www.hertie-school.org/en/events/event-detail/event/automating-human-rights-
 adjudication">https://www.hertie-school.org/en/events/event-detail/event/au
 tomating-human-rights-adjudication</a></p><p>[av_button label='iCal-Export'
  link='./feed/eo-events' link_target='' size='small' position='center' labe
 l_display='' title_attr='' icon_select='yes' icon='ue85b' font='entypo-font
 ello' color='custom' custom_bg='#b5123e' custom_font='#ffffff' av_uid='' id
 ='' custom_class='' admin_preview_bg='']</p>
CATEGORIES:Recht interdisziplinär
LOCATION:Inland
GEO:0.000000;0.000000
ORGANIZER;CN="ViFa-Recht":MAILTO:vifa-recht@sbb.spk-berlin.de
URL;VALUE=URI:https://events.intrecht.de/termine/termin/automating-human-ri
 ghts-adjudication-vortrag/
END:VEVENT
BEGIN:VTIMEZONE
TZID:Europe/Berlin
BEGIN:STANDARD
TZOFFSETFROM:+0200
TZOFFSETTO:+0100
DTSTART:20231029T010000
TZNAME:CET
END:STANDARD
END:VTIMEZONE
END:VCALENDAR
