BEGIN:VCALENDAR
VERSION:2.0
PRODID:-//Events | FID-Recht//NONSGML Events//EN
CALSCALE:GREGORIAN
X-ORIGINAL-URL:https://events.intrecht.de/termine/
X-WR-CALDESC:Events | FID-Recht - Events
BEGIN:VEVENT
UID:20200602T0945Z-1591091115.9737-EO-599-1@172.16.200.141
STATUS:CONFIRMED
DTSTAMP:20260423T052754Z
CREATED:20251120T134513Z
LAST-MODIFIED:20251120T134523Z
DTSTART;VALUE=DATE:20251217
DTEND;VALUE=DATE:20251218
SUMMARY: Austausch zwischen arrivierten Rechtswissenschaftler:innen und dem
  rechtswissenschaftlichen Nachwuchs (Digitale Kamingespräche / mit Prof. Dr
 . Urs Gasser)
DESCRIPTION: 17.12.2025 / Online https://hanjo.1hamann.de/Kamin2025.pdf
X-ALT-DESC;FMTTYPE=text/html: <p>17.12.2025 / Online</p><p><a href="https:/
 /hanjo.1hamann.de/Kamin2025.pdf">https://hanjo.1hamann.de/Kamin2025.pdf</a>
 </p><p>[av_button label='iCal-Export' link='./feed/eo-events' link_target='
 ' size='small' position='center' label_display='' title_attr='' icon_select
 ='yes' icon='ue85b' font='entypo-fontello' color='custom' custom_bg='#b5123
 e' custom_font='#ffffff' av_uid='' id='' custom_class='' admin_preview_bg='
 ']</p>
CATEGORIES:Recht interdisziplinär
LOCATION:Online
GEO:0.000000;0.000000
ORGANIZER;CN="ViFa-Recht":MAILTO:vifa-recht@sbb.spk-berlin.de
URL;VALUE=URI:https://events.intrecht.de/termine/termin/austausch-zwischen-
 arrivierten-rechtswissenschaftlerinnen-und-dem-rechtswissenschaftlichen-nac
 hwuchs-digitale-kamingespraeche-mit-prof-dr-urs-gasser/
END:VEVENT
BEGIN:VTIMEZONE
TZID:Europe/Berlin
BEGIN:STANDARD
TZOFFSETFROM:+0200
TZOFFSETTO:+0100
DTSTART:20251026T010000
TZNAME:CET
END:STANDARD
END:VTIMEZONE
END:VCALENDAR
