BEGIN:VCALENDAR
VERSION:2.0
PRODID:-//Events | FID-Recht//NONSGML Events//EN
CALSCALE:GREGORIAN
X-ORIGINAL-URL:https://events.intrecht.de/termine/
X-WR-CALDESC:Events | FID-Recht - Events
BEGIN:VEVENT
UID:20200914T0640Z-1600065617.7239-EO-1499-1@172.16.200.141
STATUS:CONFIRMED
DTSTAMP:20260422T193955Z
CREATED:20200908T115556Z
LAST-MODIFIED:20200908T115556Z
DTSTART;VALUE=DATE:20201004
DTEND;VALUE=DATE:20201005
SUMMARY: Ausschreibung zur Ausrichtung eines Blankensee-Colloquiums zum The
 ma “Kultureller und sozialer Wandel“ am WIKO Berlin (Call)
DESCRIPTION: Ausschreibung für jüngere Wissenschaftler*innen aus Berlin: Au
 srichtung eines Blankensee-Colloquiums zum Thema “Kultureller und sozialer 
 Wandel“ am WIKO Berlin (Call) Bewerbungsfrist: 4.10.2020 https://www.wiko-b
 erlin.de/institution/initiativen-kooperationen/blankensee-colloquien/aussch
 reibung  
X-ALT-DESC;FMTTYPE=text/html: <p>Ausschreibung für jüngere Wissenschaftler*
 innen aus Berlin: Ausrichtung eines Blankensee-Colloquiums zum Thema “Kultu
 reller und sozialer Wandel“ am WIKO Berlin (Call)</p><p>Bewerbungsfrist: 4.
 10.2020</p><p><a href="https://www.wiko-berlin.de/institution/initiativen-k
 ooperationen/blankensee-colloquien/ausschreibung">https://www.wiko-berlin.d
 e/institution/initiativen-kooperationen/blankensee-colloquien/ausschreibung
 </a></p><p> </p><p>[av_button label='iCal-Export' link='./feed/eo-events' l
 ink_target='' size='small' position='center' label_display='' title_attr=''
  icon_select='yes' icon='ue85b' font='entypo-fontello' color='custom' custo
 m_bg='#b5123e' custom_font='#ffffff' av_uid='' id='' custom_class='' admin_
 preview_bg='']</p>
CATEGORIES:Recht interdisziplinär
LOCATION:Inland
GEO:0.000000;0.000000
ORGANIZER;CN="ViFa-Recht":MAILTO:vifa-recht@sbb.spk-berlin.de
URL;VALUE=URI:https://events.intrecht.de/termine/termin/ausschreibung-zur-a
 usrichtung-eines-blankensee-colloquiums-zum-thema-kultureller-und-sozialer-
 wandel-am-wiko-berlin-call/
END:VEVENT
BEGIN:VTIMEZONE
TZID:Europe/Berlin
BEGIN:DAYLIGHT
TZOFFSETFROM:+0100
TZOFFSETTO:+0200
DTSTART:20200329T010000
TZNAME:CEST
END:DAYLIGHT
END:VTIMEZONE
END:VCALENDAR
