BEGIN:VCALENDAR
VERSION:2.0
PRODID:-//Events | FID-Recht//NONSGML Events//EN
CALSCALE:GREGORIAN
X-ORIGINAL-URL:https://events.intrecht.de/termine/
X-WR-CALDESC:Events | FID-Recht - Events
BEGIN:VEVENT
UID:20200603T1418Z-1591193923.3362-EO-587-1@172.16.200.141
STATUS:CONFIRMED
DTSTAMP:20260422T091130Z
CREATED:20240116T093919Z
LAST-MODIFIED:20240116T093919Z
DTSTART;VALUE=DATE:20240206
DTEND;VALUE=DATE:20240207
SUMMARY: Ausgewählte kollisionsrechtliche Fragen des Lieferkettenrechts (Vi
 rtueller Workshop / Aktuelle Forschung im Internationalen Privatrecht)
DESCRIPTION: 6.2.2024 / Online https://events.mpipriv.de/IPR_workshop_mit_h
 einz-peter_mansel
X-ALT-DESC;FMTTYPE=text/html: <p>6.2.2024 / Online</p><p><a href="https://e
 vents.mpipriv.de/IPR_workshop_mit_heinz-peter_mansel">https://events.mpipri
 v.de/IPR_workshop_mit_heinz-peter_mansel</a></p><p>[av_button label='iCal-E
 xport' link='./feed/eo-events' link_target='' size='small' position='center
 ' label_display='' title_attr='' icon_select='yes' icon='ue85b' font='entyp
 o-fontello' color='custom' custom_bg='#b5123e' custom_font='#ffffff' av_uid
 ='' id='' custom_class='' admin_preview_bg='']</p>
CATEGORIES:Zivilrecht
LOCATION:Online
GEO:0.000000;0.000000
ORGANIZER;CN="ViFa-Recht":MAILTO:vifa-recht@sbb.spk-berlin.de
URL;VALUE=URI:https://events.intrecht.de/termine/termin/ausgewaehlte-kollis
 ionsrechtliche-fragen-des-lieferkettenrechts-virtueller-workshop-aktuelle-f
 orschung-im-internationalen-privatrecht/
END:VEVENT
BEGIN:VTIMEZONE
TZID:Europe/Berlin
BEGIN:STANDARD
TZOFFSETFROM:+0200
TZOFFSETTO:+0100
DTSTART:20231029T010000
TZNAME:CET
END:STANDARD
END:VTIMEZONE
END:VCALENDAR
