BEGIN:VCALENDAR
VERSION:2.0
PRODID:-//Events | FID-Recht//NONSGML Events//EN
CALSCALE:GREGORIAN
X-ORIGINAL-URL:https://events.intrecht.de/termine/
X-WR-CALDESC:Events | FID-Recht - Events
BEGIN:VEVENT
UID:20211002T0751Z-1633161084.5331-EO-4667-1@172.16.200.141
STATUS:CONFIRMED
DTSTAMP:20260421T102728Z
CREATED:20210929T170351Z
LAST-MODIFIED:20210929T170351Z
DTSTART;TZID=Europe/Berlin:20211005T110000
DTEND;TZID=Europe/Berlin:20211005T123000
SUMMARY: Aufgabe und Methodenvielfalt des Internationalen Privatrechts im W
 andel der Gesellschaft (mit Jürgen Basedow) (Online-Vortrag)
DESCRIPTION: 5.10.2021\, Online IPR Vortrag von Prof. Dr. Jürgen Basedow zu
 m Thema „Aufgabe und Methodenvielfalt des Internationalen Privatrechts im W
 andel der Gesellschaft“ (5 October 2021) · Events (Indico) (gwdg.de)  
X-ALT-DESC;FMTTYPE=text/html: <p>5.10.2021\, Online</p><p><a href="https://
 events.gwdg.de/event/43/">IPR Vortrag von Prof. Dr. Jürgen Basedow zum Them
 a „Aufgabe und Methodenvielfalt des Internationalen Privatrechts im Wandel 
 der Gesellschaft“ (5 October 2021) · Events (Indico) (gwdg.de)</a></p><p> <
 /p><p>[av_button label='iCal-Export' link='./feed/eo-events' link_target=''
  size='small' position='center' label_display='' title_attr='' icon_select=
 'yes' icon='ue85b' font='entypo-fontello' color='custom' custom_bg='#b5123e
 ' custom_font='#ffffff' av_uid='' id='' custom_class='' admin_preview_bg=''
 ]</p>
CATEGORIES:Zivilrecht
LOCATION:Online
GEO:0.000000;0.000000
ORGANIZER;CN="ViFa-Recht":MAILTO:vifa-recht@sbb.spk-berlin.de
URL;VALUE=URI:https://events.intrecht.de/termine/termin/aufgabe-und-methode
 nvielfalt-des-internationalen-privatrechts-im-wandel-der-gesellschaft-mit-j
 uergen-basedow-online-vortrag/
END:VEVENT
BEGIN:VTIMEZONE
TZID:Europe/Berlin
BEGIN:DAYLIGHT
TZOFFSETFROM:+0100
TZOFFSETTO:+0200
DTSTART:20210328T010000
TZNAME:CEST
END:DAYLIGHT
END:VTIMEZONE
END:VCALENDAR
