BEGIN:VCALENDAR
VERSION:2.0
PRODID:-//Events | FID-Recht//NONSGML Events//EN
CALSCALE:GREGORIAN
X-ORIGINAL-URL:https://events.intrecht.de/termine/
X-WR-CALDESC:Events | FID-Recht - Events
BEGIN:VEVENT
UID:20220903T2038Z-1662237528.6494-EO-5324-1@172.16.200.151
STATUS:CONFIRMED
DTSTAMP:20260422T162237Z
CREATED:20220901T101128Z
LAST-MODIFIED:20220901T101128Z
DTSTART;VALUE=DATE:20220926
DTEND;VALUE=DATE:20220928
SUMMARY: Asser Institute Doctoral Seminar Series – Nuclear Weapons: Challen
 ges and Opportunities (Seminar)
DESCRIPTION: 26.-27.09.2022\, Den Haag https://voelkerrechtsblog.org/events
 /asser-institute-doctoral-seminar-series-nuclear-weapons-challenges-and-opp
 ortunities/  
X-ALT-DESC;FMTTYPE=text/html: <p>26.-27.09.2022\, Den Haag</p><p><a href="h
 ttps://voelkerrechtsblog.org/events/asser-institute-doctoral-seminar-series
 -nuclear-weapons-challenges-and-opportunities/">https://voelkerrechtsblog.o
 rg/events/asser-institute-doctoral-seminar-series-nuclear-weapons-challenge
 s-and-opportunities/</a></p><p> </p><p>[av_button label='iCal-Export' link=
 './feed/eo-events' link_target='' size='small' position='center' label_disp
 lay='' title_attr='' icon_select='yes' icon='ue85b' font='entypo-fontello' 
 color='custom' custom_bg='#b5123e' custom_font='#ffffff' av_uid='' id='' cu
 stom_class='' admin_preview_bg='']</p>
CATEGORIES:Europäisches / Internationales Recht
LOCATION:Ausland
GEO:0.000000;0.000000
ORGANIZER;CN="ViFa-Recht":MAILTO:vifa-recht@sbb.spk-berlin.de
URL;VALUE=URI:https://events.intrecht.de/termine/termin/asser-institute-doc
 toral-seminar-series-nuclear-weapons-challenges-and-opportunities-seminar/
END:VEVENT
BEGIN:VTIMEZONE
TZID:Europe/Berlin
BEGIN:DAYLIGHT
TZOFFSETFROM:+0100
TZOFFSETTO:+0200
DTSTART:20220327T010000
TZNAME:CEST
END:DAYLIGHT
END:VTIMEZONE
END:VCALENDAR
