BEGIN:VCALENDAR
VERSION:2.0
PRODID:-//Events | FID-Recht//NONSGML Events//EN
CALSCALE:GREGORIAN
X-ORIGINAL-URL:https://events.intrecht.de/termine/
X-WR-CALDESC:Events | FID-Recht - Events
BEGIN:VEVENT
UID:20210312T0054Z-1615510470.6996-EO-3482-1@172.16.200.141
STATUS:CONFIRMED
DTSTAMP:20260421T102719Z
CREATED:20210311T162807Z
LAST-MODIFIED:20210311T162807Z
DTSTART;VALUE=DATE:20210312
DTEND;VALUE=DATE:20210312
SUMMARY: Asia-Pacific Commercial Dispute Resolution in the Aftermath of the
  Pandemic (Webinar)
DESCRIPTION:  12.3.2021\, Online https://conflictoflaws.net/2021/webinar-as
 ia-pacific-commercial-dispute-resolution-in-the-aftermath-of-the-pandemic/ 
  
X-ALT-DESC;FMTTYPE=text/html: <p><strong> </strong>12.3.2021\, Online</p><p
 ><a href="https://conflictoflaws.net/2021/webinar-asia-pacific-commercial-d
 ispute-resolution-in-the-aftermath-of-the-pandemic/">https://conflictoflaws
 .net/2021/webinar-asia-pacific-commercial-dispute-resolution-in-the-afterma
 th-of-the-pandemic/</a></p><p> </p><p>[av_button label='iCal-Export' link='
 ./feed/eo-events' link_target='' size='small' position='center' label_displ
 ay='' title_attr='' icon_select='yes' icon='ue85b' font='entypo-fontello' c
 olor='custom' custom_bg='#b5123e' custom_font='#ffffff' av_uid='' id='' cus
 tom_class='' admin_preview_bg='']</p>
CATEGORIES:Europäisches / Internationales Recht,Recht interdisziplinär,Zivilrecht
LOCATION:Online
GEO:0.000000;0.000000
ORGANIZER;CN="ViFa-Recht":MAILTO:vifa-recht@sbb.spk-berlin.de
URL;VALUE=URI:https://events.intrecht.de/termine/termin/asia-pacific-commer
 cial-dispute-resolution-in-the-aftermath-of-the-pandemic-webinar/
END:VEVENT
BEGIN:VTIMEZONE
TZID:Europe/Berlin
BEGIN:STANDARD
TZOFFSETFROM:+0200
TZOFFSETTO:+0100
DTSTART:20201025T010000
TZNAME:CET
END:STANDARD
END:VTIMEZONE
END:VCALENDAR
