BEGIN:VCALENDAR
VERSION:2.0
PRODID:-//Events | FID-Recht//NONSGML Events//EN
CALSCALE:GREGORIAN
X-ORIGINAL-URL:https://events.intrecht.de/termine/
X-WR-CALDESC:Events | FID-Recht - Events
BEGIN:VEVENT
UID:20200603T1418Z-1591193923.3362-EO-587-1@172.16.200.141
STATUS:CONFIRMED
DTSTAMP:20260425T201128Z
CREATED:20231108T101004Z
LAST-MODIFIED:20231108T101004Z
DTSTART;VALUE=DATE:20240524
DTEND;VALUE=DATE:20240526
SUMMARY: Asia and International Law: Historical Legacy and Progressive Deve
 lopment (Conference)
DESCRIPTION: 24.-25.5.2024 / Almaty (Einreichungsfrist: 22.12.2023) https:/
 /en.narxoz.kz/research/tpost/jdngu6nzv1-call-for-papers
X-ALT-DESC;FMTTYPE=text/html: <p>24.-25.5.2024 / Almaty <strong>(Einreichun
 gsfrist: 22.12.2023)</strong></p><p><a href="https://en.narxoz.kz/research/
 tpost/jdngu6nzv1-call-for-papers">https://en.narxoz.kz/research/tpost/jdngu
 6nzv1-call-for-papers</a></p><p>[av_button label='iCal-Export' link='./feed
 /eo-events' link_target='' size='small' position='center' label_display='' 
 title_attr='' icon_select='yes' icon='ue85b' font='entypo-fontello' color='
 custom' custom_bg='#b5123e' custom_font='#ffffff' av_uid='' id='' custom_cl
 ass='' admin_preview_bg='']</p>
CATEGORIES:Europäisches / Internationales Recht
LOCATION:Ausland
GEO:0.000000;0.000000
ORGANIZER;CN="ViFa-Recht":MAILTO:vifa-recht@sbb.spk-berlin.de
URL;VALUE=URI:https://events.intrecht.de/termine/termin/asia-and-internatio
 nal-law-historical-legacy-and-progressive-development-conference/
END:VEVENT
BEGIN:VTIMEZONE
TZID:Europe/Berlin
BEGIN:DAYLIGHT
TZOFFSETFROM:+0100
TZOFFSETTO:+0200
DTSTART:20240331T010000
TZNAME:CEST
END:DAYLIGHT
END:VTIMEZONE
END:VCALENDAR
