BEGIN:VCALENDAR
VERSION:2.0
PRODID:-//Events | FID-Recht//NONSGML Events//EN
CALSCALE:GREGORIAN
X-ORIGINAL-URL:https://events.intrecht.de/termine/
X-WR-CALDESC:Events | FID-Recht - Events
BEGIN:VEVENT
UID:20230418T1222Z-1681820557.0164-EO-8328-1@172.16.200.151
STATUS:CONFIRMED
DTSTAMP:20260425T234611Z
CREATED:20230207T164623Z
LAST-MODIFIED:20230207T164648Z
DTSTART;VALUE=DATE:20230223
DTEND;VALUE=DATE:20230224
SUMMARY: “Artistic Freedom as an Excuse”? The Antisemitism Debate at the Do
 cumenta Fifteen – Between Art and Law (Talk)
DESCRIPTION: 23.2.2023 / Online https://www.uni-giessen.de/de/ueber-uns/ver
 anstaltungen/vortraege/abmtalk20230223  
X-ALT-DESC;FMTTYPE=text/html: <p>23.2.2023 / Online</p><p><a href="https://
 www.uni-giessen.de/de/ueber-uns/veranstaltungen/vortraege/abmtalk20230223">
 https://www.uni-giessen.de/de/ueber-uns/veranstaltungen/vortraege/abmtalk20
 230223</a></p><p> </p><p>[av_button label='iCal-Export' link='./feed/eo-eve
 nts' link_target='' size='small' position='center' label_display='' title_a
 ttr='' icon_select='yes' icon='ue85b' font='entypo-fontello' color='custom'
  custom_bg='#b5123e' custom_font='#ffffff' av_uid='' id='' custom_class='' 
 admin_preview_bg='']</p>
CATEGORIES:Recht interdisziplinär
LOCATION:Online
GEO:0.000000;0.000000
ORGANIZER;CN="ViFa-Recht":MAILTO:vifa-recht@sbb.spk-berlin.de
URL;VALUE=URI:https://events.intrecht.de/termine/termin/artistic-freedom-as
 -an-excuse-the-antisemitism-debate-at-the-documenta-fifteen-between-art-and
 -law-talk/
END:VEVENT
BEGIN:VTIMEZONE
TZID:Europe/Berlin
BEGIN:STANDARD
TZOFFSETFROM:+0200
TZOFFSETTO:+0100
DTSTART:20221030T010000
TZNAME:CET
END:STANDARD
END:VTIMEZONE
END:VCALENDAR
