BEGIN:VCALENDAR
VERSION:2.0
PRODID:-//Events | FID-Recht//NONSGML Events//EN
CALSCALE:GREGORIAN
X-ORIGINAL-URL:https://events.intrecht.de/termine/
X-WR-CALDESC:Events | FID-Recht - Events
BEGIN:VEVENT
UID:20200603T1418Z-1591193923.3362-EO-587-1@172.16.200.141
STATUS:CONFIRMED
DTSTAMP:20260423T003129Z
CREATED:20241104T135829Z
LAST-MODIFIED:20241104T135829Z
DTSTART;VALUE=DATE:20241120
DTEND;VALUE=DATE:20241121
SUMMARY: Artificial Intelligence\, the North-South Divide\, and the Right t
 o Development (Knut Ipsen Lecture)
DESCRIPTION: 20.11.2024 / Bochum https://www.ifhv.de/news/kils-2024-vijeyar
 asa
X-ALT-DESC;FMTTYPE=text/html: <p>20.11.2024 / Bochum</p><p><a href="https:/
 /www.ifhv.de/news/kils-2024-vijeyarasa">https://www.ifhv.de/news/kils-2024-
 vijeyarasa</a></p><p>[av_button label='iCal-Export' link='./feed/eo-events'
  link_target='' size='small' position='center' label_display='' title_attr=
 '' icon_select='yes' icon='ue85b' font='entypo-fontello' color='custom' cus
 tom_bg='#b5123e' custom_font='#ffffff' av_uid='' id='' custom_class='' admi
 n_preview_bg='']</p>
CATEGORIES:Recht interdisziplinär
LOCATION:Inland
GEO:0.000000;0.000000
ORGANIZER;CN="ViFa-Recht":MAILTO:vifa-recht@sbb.spk-berlin.de
URL;VALUE=URI:https://events.intrecht.de/termine/termin/artificial-intellig
 ence-the-north-south-divide-and-the-right-to-development-knut-ipsen-lecture
 /
END:VEVENT
BEGIN:VTIMEZONE
TZID:Europe/Berlin
BEGIN:STANDARD
TZOFFSETFROM:+0200
TZOFFSETTO:+0100
DTSTART:20241027T010000
TZNAME:CET
END:STANDARD
END:VTIMEZONE
END:VCALENDAR
