BEGIN:VCALENDAR
VERSION:2.0
PRODID:-//Events | FID-Recht//NONSGML Events//EN
CALSCALE:GREGORIAN
X-ORIGINAL-URL:https://events.intrecht.de/termine/
X-WR-CALDESC:Events | FID-Recht - Events
BEGIN:VEVENT
UID:20200603T1418Z-1591193923.3362-EO-587-1@172.16.200.141
STATUS:CONFIRMED
DTSTAMP:20260422T211809Z
CREATED:20240125T095932Z
LAST-MODIFIED:20240125T095932Z
DTSTART;VALUE=DATE:20240620
DTEND;VALUE=DATE:20240622
SUMMARY: Artificial Intelligence: Rechtsfragen und Regulierung künstlicher
  Intelligenz im Europäischen Binnenmarkt (Tagung „GRUR Junge Wissenschaft 
 – Kolloquium zum Gewerblichen Rechtsschutz\, Urheber- und Medienrecht“)
DESCRIPTION: 20.-21.6.2024 / Trier (Einreichungsfrist: 1.3.2024) https://ir
 dt.uni-trier.de/wp-content/uploads/2024/01/GRUR_JungeWissenschaft2024_CfP.p
 df
X-ALT-DESC;FMTTYPE=text/html: <p>20.-21.6.2024 / Trier <strong>(Einreichung
 sfrist: 1.3.2024)</strong></p><p><a href="https://irdt.uni-trier.de/wp-cont
 ent/uploads/2024/01/GRUR_JungeWissenschaft2024_CfP.pdf">https://irdt.uni-tr
 ier.de/wp-content/uploads/2024/01/GRUR_JungeWissenschaft2024_CfP.pdf</a></p
 ><p>[av_button label='iCal-Export' link='./feed/eo-events' link_target='' s
 ize='small' position='center' label_display='' title_attr='' icon_select='y
 es' icon='ue85b' font='entypo-fontello' color='custom' custom_bg='#b5123e' 
 custom_font='#ffffff' av_uid='' id='' custom_class='' admin_preview_bg='']<
 /p>
CATEGORIES:Recht interdisziplinär
LOCATION:Inland
GEO:0.000000;0.000000
ORGANIZER;CN="ViFa-Recht":MAILTO:vifa-recht@sbb.spk-berlin.de
URL;VALUE=URI:https://events.intrecht.de/termine/termin/artificial-intellig
 ence-rechtsfragen-und-regulierung-ku%cc%88nstlicher-intelligenz-im-europa%c
 c%88ischen-binnenmarkt-tagung-grur-junge-wissenschaft-kolloquium-zum-gewerb
 lichen-rec/
END:VEVENT
BEGIN:VTIMEZONE
TZID:Europe/Berlin
BEGIN:DAYLIGHT
TZOFFSETFROM:+0100
TZOFFSETTO:+0200
DTSTART:20240331T010000
TZNAME:CEST
END:DAYLIGHT
END:VTIMEZONE
END:VCALENDAR
