BEGIN:VCALENDAR
VERSION:2.0
PRODID:-//Events | FID-Recht//NONSGML Events//EN
CALSCALE:GREGORIAN
X-ORIGINAL-URL:https://events.intrecht.de/termine/
X-WR-CALDESC:Events | FID-Recht - Events
BEGIN:VEVENT
UID:20200603T1418Z-1591193923.3362-EO-587-1@172.16.200.141
STATUS:CONFIRMED
DTSTAMP:20260423T052436Z
CREATED:20250729T081736Z
LAST-MODIFIED:20250729T081736Z
DTSTART;VALUE=DATE:20251117
DTEND;VALUE=DATE:20251120
SUMMARY: Armut und Recht (Tagung)
DESCRIPTION: 17.-19.11.2025 / Berlin (Einreichungsfrist: 20.8.2025) https:/
 /www.institut-fuer-menschenrechte.de/veranstaltungen/detail/call-for-papers
 -tagung-armut-und-recht
X-ALT-DESC;FMTTYPE=text/html: <p>17.-19.11.2025 / Berlin <strong>(Einreichu
 ngsfrist: 20.8.2025)</strong></p><p><a href="https://www.institut-fuer-mens
 chenrechte.de/veranstaltungen/detail/call-for-papers-tagung-armut-und-recht
 ">https://www.institut-fuer-menschenrechte.de/veranstaltungen/detail/call-f
 or-papers-tagung-armut-und-recht</a></p><p>[av_button label='iCal-Export' l
 ink='./feed/eo-events' link_target='' size='small' position='center' label_
 display='' title_attr='' icon_select='yes' icon='ue85b' font='entypo-fontel
 lo' color='custom' custom_bg='#b5123e' custom_font='#ffffff' av_uid='' id='
 ' custom_class='' admin_preview_bg='']</p>
CATEGORIES:Recht interdisziplinär
LOCATION:Inland
GEO:0.000000;0.000000
ORGANIZER;CN="ViFa-Recht":MAILTO:vifa-recht@sbb.spk-berlin.de
URL;VALUE=URI:https://events.intrecht.de/termine/termin/armut-und-recht-tag
 ung/
END:VEVENT
BEGIN:VTIMEZONE
TZID:Europe/Berlin
BEGIN:STANDARD
TZOFFSETFROM:+0200
TZOFFSETTO:+0100
DTSTART:20251026T010000
TZNAME:CET
END:STANDARD
END:VTIMEZONE
END:VCALENDAR
