BEGIN:VCALENDAR
VERSION:2.0
PRODID:-//Events | FID-Recht//NONSGML Events//EN
CALSCALE:GREGORIAN
X-ORIGINAL-URL:https://events.intrecht.de/termine/
X-WR-CALDESC:Events | FID-Recht - Events
BEGIN:VEVENT
UID:20200603T1418Z-1591193923.3362-EO-587-1@172.16.200.141
STATUS:CONFIRMED
DTSTAMP:20260425T200930Z
CREATED:20230419T095841Z
LAST-MODIFIED:20230419T095841Z
DTSTART;VALUE=DATE:20230629
DTEND;VALUE=DATE:20230701
SUMMARY: Arms control and emerging disruptive technologies (Doctoral semina
 r)
DESCRIPTION: 29.-30.6.2023 / Den Haag (Frist für Einreichungen: 23.6.2023) 
 https://www.asser.nl/education-events/events/?id=4293
X-ALT-DESC;FMTTYPE=text/html: <p>29.-30.6.2023 / Den Haag <strong>(Frist fü
 r Einreichungen: 23.6.2023)</strong></p><p><a href="https://www.asser.nl/ed
 ucation-events/events/?id=4293">https://www.asser.nl/education-events/event
 s/?id=4293</a></p><p>[av_button label='iCal-Export' link='./feed/eo-events'
  link_target='' size='small' position='center' label_display='' title_attr=
 '' icon_select='yes' icon='ue85b' font='entypo-fontello' color='custom' cus
 tom_bg='#b5123e' custom_font='#ffffff' av_uid='' id='' custom_class='' admi
 n_preview_bg='']</p>
CATEGORIES:Recht interdisziplinär
LOCATION:Ausland
GEO:0.000000;0.000000
ORGANIZER;CN="ViFa-Recht":MAILTO:vifa-recht@sbb.spk-berlin.de
URL;VALUE=URI:https://events.intrecht.de/termine/termin/arms-control-and-em
 erging-disruptive-technologies-doctoral-seminar/
END:VEVENT
BEGIN:VTIMEZONE
TZID:Europe/Berlin
BEGIN:DAYLIGHT
TZOFFSETFROM:+0100
TZOFFSETTO:+0200
DTSTART:20230326T010000
TZNAME:CEST
END:DAYLIGHT
END:VTIMEZONE
END:VCALENDAR
