BEGIN:VCALENDAR
VERSION:2.0
PRODID:-//Events | FID-Recht//NONSGML Events//EN
CALSCALE:GREGORIAN
X-ORIGINAL-URL:https://events.intrecht.de/termine/
X-WR-CALDESC:Events | FID-Recht - Events
BEGIN:VEVENT
UID:20200602T0945Z-1591091115.9737-EO-599-1@172.16.200.141
STATUS:CONFIRMED
DTSTAMP:20260423T083437Z
CREATED:20251120T135203Z
LAST-MODIFIED:20251120T135320Z
DTSTART;VALUE=DATE:20260312
DTEND;VALUE=DATE:20260314
SUMMARY: Armed Conflict and Climate Change (Workshop of the Max Planck Tria
 logues on the Law of Peace and War)
DESCRIPTION: 12.-13.3.2026 / Berlin (Einreichungsfrist: 15.12.2025) https:/
 /www.mpil.de/files/pdf6/call-for-application-as-engaged-listeners-max-planc
 k-trialogues_bite.pdf
X-ALT-DESC;FMTTYPE=text/html: <p>12.-13.3.2026 / Berlin <strong>(Einreichun
 gsfrist: 15.12.2025)</strong></p><p><a href="https://www.mpil.de/files/pdf6
 /call-for-application-as-engaged-listeners-max-planck-trialogues_bite.pdf">
 https://www.mpil.de/files/pdf6/call-for-application-as-engaged-listeners-ma
 x-planck-trialogues_bite.pdf</a></p><p>[av_button label='iCal-Export' link=
 './feed/eo-events' link_target='' size='small' position='center' label_disp
 lay='' title_attr='' icon_select='yes' icon='ue85b' font='entypo-fontello' 
 color='custom' custom_bg='#b5123e' custom_font='#ffffff' av_uid='' id='' cu
 stom_class='' admin_preview_bg='']</p>
CATEGORIES:Recht interdisziplinär
LOCATION:Inland
GEO:0.000000;0.000000
ORGANIZER;CN="ViFa-Recht":MAILTO:vifa-recht@sbb.spk-berlin.de
URL;VALUE=URI:https://events.intrecht.de/termine/termin/armed-conflict-and-
 climate-change-workshop-of-the-max-planck-trialogues-on-the-law-of-peace-an
 d-war/
END:VEVENT
BEGIN:VTIMEZONE
TZID:Europe/Berlin
BEGIN:STANDARD
TZOFFSETFROM:+0200
TZOFFSETTO:+0100
DTSTART:20251026T010000
TZNAME:CET
END:STANDARD
END:VTIMEZONE
END:VCALENDAR
