BEGIN:VCALENDAR
VERSION:2.0
PRODID:-//Events | FID-Recht//NONSGML Events//EN
CALSCALE:GREGORIAN
X-ORIGINAL-URL:https://events.intrecht.de/termine/
X-WR-CALDESC:Events | FID-Recht - Events
BEGIN:VEVENT
UID:20200603T1418Z-1591193923.3362-EO-587-1@172.16.200.141
STATUS:CONFIRMED
DTSTAMP:20260425T181136Z
CREATED:20250331T162855Z
LAST-MODIFIED:20250331T162855Z
DTSTART;VALUE=DATE:20251031
DTEND;VALUE=DATE:20251102
SUMMARY: Argumentation 2025 – Games of Law (Conference)
DESCRIPTION: 31.10.-1.11.2025 / Brünn https://criticallegalthinking.com/202
 5/03/27/cfp-argumentation-2025-games-of-law/
X-ALT-DESC;FMTTYPE=text/html: <p>31.10.-1.11.2025 / Brünn</p><p><a href="ht
 tps://criticallegalthinking.com/2025/03/27/cfp-argumentation-2025-games-of-
 law/">https://criticallegalthinking.com/2025/03/27/cfp-argumentation-2025-g
 ames-of-law/</a></p><p>[av_button label='iCal-Export' link='./feed/eo-event
 s' link_target='' size='small' position='center' label_display='' title_att
 r='' icon_select='yes' icon='ue85b' font='entypo-fontello' color='custom' c
 ustom_bg='#b5123e' custom_font='#ffffff' av_uid='' id='' custom_class='' ad
 min_preview_bg='']</p>
CATEGORIES:Recht interdisziplinär
LOCATION:Ausland
GEO:0.000000;0.000000
ORGANIZER;CN="ViFa-Recht":MAILTO:vifa-recht@sbb.spk-berlin.de
URL;VALUE=URI:https://events.intrecht.de/termine/termin/argumentation-2025-
 games-of-law-conference/
END:VEVENT
BEGIN:VTIMEZONE
TZID:Europe/Berlin
BEGIN:STANDARD
TZOFFSETFROM:+0200
TZOFFSETTO:+0100
DTSTART:20251026T010000
TZNAME:CET
END:STANDARD
END:VTIMEZONE
END:VCALENDAR
