BEGIN:VCALENDAR
VERSION:2.0
PRODID:-//Events | FID-Recht//NONSGML Events//EN
CALSCALE:GREGORIAN
X-ORIGINAL-URL:https://events.intrecht.de/termine/
X-WR-CALDESC:Events | FID-Recht - Events
BEGIN:VEVENT
UID:20200603T1418Z-1591193923.3362-EO-587-1@172.16.200.141
STATUS:CONFIRMED
DTSTAMP:20260425T132349Z
CREATED:20231025T094952Z
LAST-MODIFIED:20231025T094952Z
DTSTART;VALUE=DATE:20231124
DTEND;VALUE=DATE:20231125
SUMMARY: Arguing Cases before International Courts and Tribunals (Hybrid-Ev
 ent)
DESCRIPTION: 24.11.2023 / Online und Mailand https://ius.unibocconi.eu/site
 s/default/files/files/media/attachments/invito-dipius-24november20231010151
 823.pdf?VersionId=Kp_htax6GYVdmIaf1eVunx1lwUQWICD9
X-ALT-DESC;FMTTYPE=text/html: <p>24.11.2023 / Online und Mailand</p><p><a h
 ref="https://ius.unibocconi.eu/sites/default/files/files/media/attachments/
 invito-dipius-24november20231010151823.pdf?VersionId=Kp_htax6GYVdmIaf1eVunx
 1lwUQWICD9">https://ius.unibocconi.eu/sites/default/files/files/media/attac
 hments/invito-dipius-24november20231010151823.pdf?VersionId=Kp_htax6GYVdmIa
 f1eVunx1lwUQWICD9</a></p><p>[av_button label='iCal-Export' link='./feed/eo-
 events' link_target='' size='small' position='center' label_display='' titl
 e_attr='' icon_select='yes' icon='ue85b' font='entypo-fontello' color='cust
 om' custom_bg='#b5123e' custom_font='#ffffff' av_uid='' id='' custom_class=
 '' admin_preview_bg='']</p>
CATEGORIES:Europäisches / Internationales Recht
LOCATION:Online
GEO:0.000000;0.000000
ORGANIZER;CN="ViFa-Recht":MAILTO:vifa-recht@sbb.spk-berlin.de
URL;VALUE=URI:https://events.intrecht.de/termine/termin/arguing-cases-befor
 e-international-courts-and-tribunals-hybrid-event/
END:VEVENT
BEGIN:VTIMEZONE
TZID:Europe/Berlin
BEGIN:STANDARD
TZOFFSETFROM:+0200
TZOFFSETTO:+0100
DTSTART:20231029T010000
TZNAME:CET
END:STANDARD
END:VTIMEZONE
END:VCALENDAR
