BEGIN:VCALENDAR
VERSION:2.0
PRODID:-//Events | FID-Recht//NONSGML Events//EN
CALSCALE:GREGORIAN
X-ORIGINAL-URL:https://events.intrecht.de/termine/
X-WR-CALDESC:Events | FID-Recht - Events
BEGIN:VEVENT
UID:20200603T1418Z-1591193923.3362-EO-587-1@172.16.200.141
STATUS:CONFIRMED
DTSTAMP:20260423T003131Z
CREATED:20241202T173730Z
LAST-MODIFIED:20241202T173730Z
DTSTART;VALUE=DATE:20241204
DTEND;VALUE=DATE:20241205
SUMMARY: Are Democracies Dying from Elections? (Gesprächsrunde)
DESCRIPTION: 4.12.2024 / Berlin https://www.wiko-berlin.de/veranstaltungen/
 veranstaltungskalender/2024-12-04-are-democracies-dying-from-elections
X-ALT-DESC;FMTTYPE=text/html: <p>4.12.2024 / Berlin</p><p><a href="https://
 www.wiko-berlin.de/veranstaltungen/veranstaltungskalender/2024-12-04-are-de
 mocracies-dying-from-elections">https://www.wiko-berlin.de/veranstaltungen/
 veranstaltungskalender/2024-12-04-are-democracies-dying-from-elections</a><
 /p><p>[av_button label='iCal-Export' link='./feed/eo-events' link_target=''
  size='small' position='center' label_display='' title_attr='' icon_select=
 'yes' icon='ue85b' font='entypo-fontello' color='custom' custom_bg='#b5123e
 ' custom_font='#ffffff' av_uid='' id='' custom_class='' admin_preview_bg=''
 ]</p>
CATEGORIES:Recht interdisziplinär
LOCATION:Inland
GEO:0.000000;0.000000
ORGANIZER;CN="ViFa-Recht":MAILTO:vifa-recht@sbb.spk-berlin.de
URL;VALUE=URI:https://events.intrecht.de/termine/termin/are-democracies-dyi
 ng-from-elections-gespraechsrunde/
END:VEVENT
BEGIN:VTIMEZONE
TZID:Europe/Berlin
BEGIN:STANDARD
TZOFFSETFROM:+0200
TZOFFSETTO:+0100
DTSTART:20241027T010000
TZNAME:CET
END:STANDARD
END:VTIMEZONE
END:VCALENDAR
