BEGIN:VCALENDAR
VERSION:2.0
PRODID:-//Events | FID-Recht//NONSGML Events//EN
CALSCALE:GREGORIAN
X-ORIGINAL-URL:https://events.intrecht.de/termine/
X-WR-CALDESC:Events | FID-Recht - Events
BEGIN:VEVENT
UID:20200603T1418Z-1591193923.3362-EO-587-1@172.16.200.141
STATUS:CONFIRMED
DTSTAMP:20260425T182942Z
CREATED:20230307T154617Z
LAST-MODIFIED:20230307T154617Z
DTSTART;VALUE=DATE:20231026
DTEND;VALUE=DATE:20231029
SUMMARY: Arbeit macht Geschlecht – Geschlecht macht Arbeit (Tagung)
DESCRIPTION: 26.-28.10.2023 / Stuttgart-Hohenheim (Frist für Einreichungen:
  15.4.2023) https://ak-geschlechtergeschichte-fnz.univie.ac.at/?page_id=48
X-ALT-DESC;FMTTYPE=text/html: <p>26.-28.10.2023 / Stuttgart-Hohenheim <stro
 ng>(Frist für Einreichungen: 15.4.2023)</strong></p><p><a href="https://ak-
 geschlechtergeschichte-fnz.univie.ac.at/?page_id=48">https://ak-geschlechte
 rgeschichte-fnz.univie.ac.at/?page_id=48</a></p><p>[av_button label='iCal-E
 xport' link='./feed/eo-events' link_target='' size='small' position='center
 ' label_display='' title_attr='' icon_select='yes' icon='ue85b' font='entyp
 o-fontello' color='custom' custom_bg='#b5123e' custom_font='#ffffff' av_uid
 ='' id='' custom_class='' admin_preview_bg='']</p>
CATEGORIES:Recht interdisziplinär
LOCATION:Inland
GEO:0.000000;0.000000
ORGANIZER;CN="ViFa-Recht":MAILTO:vifa-recht@sbb.spk-berlin.de
URL;VALUE=URI:https://events.intrecht.de/termine/termin/arbeit-macht-geschl
 echt-geschlecht-macht-arbeit-tagung/
END:VEVENT
BEGIN:VTIMEZONE
TZID:Europe/Berlin
BEGIN:DAYLIGHT
TZOFFSETFROM:+0100
TZOFFSETTO:+0200
DTSTART:20230326T010000
TZNAME:CEST
END:DAYLIGHT
END:VTIMEZONE
END:VCALENDAR
