BEGIN:VCALENDAR
VERSION:2.0
PRODID:-//Events | FID-Recht//NONSGML Events//EN
CALSCALE:GREGORIAN
X-ORIGINAL-URL:https://events.intrecht.de/termine/
X-WR-CALDESC:Events | FID-Recht - Events
BEGIN:VEVENT
UID:20221208T2312Z-1670541147.0737-EO-7759-1@172.16.200.151
STATUS:CONFIRMED
DTSTAMP:20260421T102416Z
CREATED:20221206T174733Z
LAST-MODIFIED:20221206T174733Z
DTSTART;VALUE=DATE:20230726
DTEND;VALUE=DATE:20230729
SUMMARY: Applied Legal Storytelling (Tagung)
DESCRIPTION: 26.-28.7.2023 / London (Frist für Einreichungen: 3.2.2023) htt
 ps://www.legalscholars.ac.uk/event/conference-applied-legal-storytelling/  
X-ALT-DESC;FMTTYPE=text/html: <p>26.-28.7.2023 / London <strong>(Frist für 
 Einreichungen: 3.2.2023)</strong></p><p><a href="https://www.legalscholars.
 ac.uk/event/conference-applied-legal-storytelling/">https://www.legalschola
 rs.ac.uk/event/conference-applied-legal-storytelling/</a></p><p> </p><p>[av
 _button label='iCal-Export' link='./feed/eo-events' link_target='' size='sm
 all' position='center' label_display='' title_attr='' icon_select='yes' ico
 n='ue85b' font='entypo-fontello' color='custom' custom_bg='#b5123e' custom_
 font='#ffffff' av_uid='' id='' custom_class='' admin_preview_bg='']</p>
CATEGORIES:Recht interdisziplinär
LOCATION:Ausland
GEO:0.000000;0.000000
ORGANIZER;CN="ViFa-Recht":MAILTO:vifa-recht@sbb.spk-berlin.de
URL;VALUE=URI:https://events.intrecht.de/termine/termin/applied-legal-story
 telling-tagung/
END:VEVENT
BEGIN:VTIMEZONE
TZID:Europe/Berlin
BEGIN:DAYLIGHT
TZOFFSETFROM:+0100
TZOFFSETTO:+0200
DTSTART:20230326T010000
TZNAME:CEST
END:DAYLIGHT
END:VTIMEZONE
END:VCALENDAR
