BEGIN:VCALENDAR
VERSION:2.0
PRODID:-//Events | FID-Recht//NONSGML Events//EN
CALSCALE:GREGORIAN
X-ORIGINAL-URL:https://events.intrecht.de/termine/
X-WR-CALDESC:Events | FID-Recht - Events
BEGIN:VEVENT
UID:20220801T0716Z-1659338197.1373-EO-4806-1@172.16.200.151
STATUS:CONFIRMED
DTSTAMP:20260426T005250Z
CREATED:20220729T154608Z
LAST-MODIFIED:20220729T154608Z
DTSTART;VALUE=DATE:20221111
DTEND;VALUE=DATE:20221111
SUMMARY: Anwaltschaft im Blick der Wissenschaft – Rechtsanwalt\, Störenfrie
 d\, Partner oder Verbündeter der Gerichte? Die Rolle des Rechtsanwalts im S
 trafprozess (Tagung)
DESCRIPTION: 11.11.2022\, Hannover https://anwaltskonferenz.de/konferenz-20
 22-save-the-date/  
X-ALT-DESC;FMTTYPE=text/html: <p>11.11.2022\, Hannover</p><p><a href="https
 ://anwaltskonferenz.de/konferenz-2022-save-the-date/">https://anwaltskonfer
 enz.de/konferenz-2022-save-the-date/</a></p><p> </p><p>[av_button label='iC
 al-Export' link='./feed/eo-events' link_target='' size='small' position='ce
 nter' label_display='' title_attr='' icon_select='yes' icon='ue85b' font='e
 ntypo-fontello' color='custom' custom_bg='#b5123e' custom_font='#ffffff' av
 _uid='' id='' custom_class='' admin_preview_bg='']</p>
CATEGORIES:Strafrecht
LOCATION:Inland
GEO:0.000000;0.000000
ORGANIZER;CN="ViFa-Recht":MAILTO:vifa-recht@sbb.spk-berlin.de
URL;VALUE=URI:https://events.intrecht.de/termine/termin/anwaltschaft-im-bli
 ck-der-wissenschaft-rechtsanwalt-stoerenfried-partner-oder-verbuendeter-der
 -gerichte-die-rolle-des-rechtsanwalts-im-strafprozess-tagung/
END:VEVENT
BEGIN:VTIMEZONE
TZID:Europe/Berlin
BEGIN:STANDARD
TZOFFSETFROM:+0200
TZOFFSETTO:+0100
DTSTART:20221030T010000
TZNAME:CET
END:STANDARD
END:VTIMEZONE
END:VCALENDAR
