BEGIN:VCALENDAR
VERSION:2.0
PRODID:-//Events | FID-Recht//NONSGML Events//EN
CALSCALE:GREGORIAN
X-ORIGINAL-URL:https://events.intrecht.de/termine/
X-WR-CALDESC:Events | FID-Recht - Events
BEGIN:VEVENT
UID:20200603T1418Z-1591193923.3362-EO-587-1@172.16.200.141
STATUS:CONFIRMED
DTSTAMP:20260422T141447Z
CREATED:20240508T065433Z
LAST-MODIFIED:20240508T065433Z
DTSTART;VALUE=DATE:20240702
DTEND;VALUE=DATE:20240703
SUMMARY: Antisemitismus und Recht. Interdisziplinäre Annäherungen (Hybrid E
 vent / Book Launch)
DESCRIPTION: 2.7.2024 / Online und Berlin https://www.rewi.hu-berlin.de/de/
 lf/oe/lsi/antisemitismus-und-recht-interdisziplinaere-annaeherungen-book-la
 unch-mit-christoph-schuch
X-ALT-DESC;FMTTYPE=text/html: <p>2.7.2024 / Online und Berlin</p><p><a href
 ="https://www.rewi.hu-berlin.de/de/lf/oe/lsi/antisemitismus-und-recht-inter
 disziplinaere-annaeherungen-book-launch-mit-christoph-schuch">https://www.r
 ewi.hu-berlin.de/de/lf/oe/lsi/antisemitismus-und-recht-interdisziplinaere-a
 nnaeherungen-book-launch-mit-christoph-schuch</a></p><p>[av_button label='i
 Cal-Export' link='./feed/eo-events' link_target='' size='small' position='c
 enter' label_display='' title_attr='' icon_select='yes' icon='ue85b' font='
 entypo-fontello' color='custom' custom_bg='#b5123e' custom_font='#ffffff' a
 v_uid='' id='' custom_class='' admin_preview_bg='']</p>
CATEGORIES:Recht interdisziplinär
LOCATION:Hybrid
GEO:0.000000;0.000000
ORGANIZER;CN="ViFa-Recht":MAILTO:vifa-recht@sbb.spk-berlin.de
URL;VALUE=URI:https://events.intrecht.de/termine/termin/antisemitismus-und-
 recht-interdisziplinaere-annaeherungen-hybrid-event-book-launch/
END:VEVENT
BEGIN:VTIMEZONE
TZID:Europe/Berlin
BEGIN:DAYLIGHT
TZOFFSETFROM:+0100
TZOFFSETTO:+0200
DTSTART:20240331T010000
TZNAME:CEST
END:DAYLIGHT
END:VTIMEZONE
END:VCALENDAR
