BEGIN:VCALENDAR
VERSION:2.0
PRODID:-//Events | FID-Recht//NONSGML Events//EN
CALSCALE:GREGORIAN
X-ORIGINAL-URL:https://events.intrecht.de/termine/
X-WR-CALDESC:Events | FID-Recht - Events
BEGIN:VEVENT
UID:20200603T1418Z-1591193923.3362-EO-587-1@172.16.200.141
STATUS:CONFIRMED
DTSTAMP:20260425T151224Z
CREATED:20230307T151305Z
LAST-MODIFIED:20230307T151437Z
DTSTART;VALUE=DATE:20230322
DTEND;VALUE=DATE:20230323
SUMMARY: Antiabortion legal mobilization in Brazil: Human rights as a field
  of contention (Vortrag)
DESCRIPTION: 22.3.2023 / Online https://www.hertie-school.org/en/events/eve
 nt-detail/event/antiabortion-legal-mobilization-in-brazil-human-rights-as-a
 -field-of-contention
X-ALT-DESC;FMTTYPE=text/html: <p>22.3.2023 / Online</p><p><a href="https://
 www.hertie-school.org/en/events/event-detail/event/antiabortion-legal-mobil
 ization-in-brazil-human-rights-as-a-field-of-contention">https://www.hertie
 -school.org/en/events/event-detail/event/antiabortion-legal-mobilization-in
 -brazil-human-rights-as-a-field-of-contention</a></p><p>[av_button label='i
 Cal-Export' link='./feed/eo-events' link_target='' size='small' position='c
 enter' label_display='' title_attr='' icon_select='yes' icon='ue85b' font='
 entypo-fontello' color='custom' custom_bg='#b5123e' custom_font='#ffffff' a
 v_uid='' id='' custom_class='' admin_preview_bg='']</p>
CATEGORIES:Recht interdisziplinär
LOCATION:Online
GEO:0.000000;0.000000
ORGANIZER;CN="ViFa-Recht":MAILTO:vifa-recht@sbb.spk-berlin.de
URL;VALUE=URI:https://events.intrecht.de/termine/termin/antiabortion-legal-
 mobilization-in-brazil-human-rights-as-a-field-of-contention-vortrag/
END:VEVENT
BEGIN:VTIMEZONE
TZID:Europe/Berlin
BEGIN:STANDARD
TZOFFSETFROM:+0200
TZOFFSETTO:+0100
DTSTART:20221030T010000
TZNAME:CET
END:STANDARD
END:VTIMEZONE
END:VCALENDAR
