BEGIN:VCALENDAR
VERSION:2.0
PRODID:-//Events | FID-Recht//NONSGML Events//EN
CALSCALE:GREGORIAN
X-ORIGINAL-URL:https://events.intrecht.de/termine/
X-WR-CALDESC:Events | FID-Recht - Events
BEGIN:VEVENT
UID:20200603T1418Z-1591193923.3362-EO-587-1@172.16.200.141
STATUS:CONFIRMED
DTSTAMP:20260425T164859Z
CREATED:20231108T095959Z
LAST-MODIFIED:20231108T095959Z
DTSTART;VALUE=DATE:20231114
DTEND;VALUE=DATE:20231115
SUMMARY: (Anti-)Konsequentialismus im Strafrecht (Akademievorlesung „Denken
 \, Forschen\, Urteilen: Aufklärung in den Wissenschaften heute“)
DESCRIPTION: 14.11.2023 / Berlin https://www.bbaw.de/veranstaltungen/verans
 taltung-anti-konsequentialismus-im-strafrecht
X-ALT-DESC;FMTTYPE=text/html: <p>14.11.2023 / Berlin</p><p><a href="https:/
 /www.bbaw.de/veranstaltungen/veranstaltung-anti-konsequentialismus-im-straf
 recht">https://www.bbaw.de/veranstaltungen/veranstaltung-anti-konsequential
 ismus-im-strafrecht</a></p><p>[av_button label='iCal-Export' link='./feed/e
 o-events' link_target='' size='small' position='center' label_display='' ti
 tle_attr='' icon_select='yes' icon='ue85b' font='entypo-fontello' color='cu
 stom' custom_bg='#b5123e' custom_font='#ffffff' av_uid='' id='' custom_clas
 s='' admin_preview_bg='']</p>
CATEGORIES:Strafrecht
LOCATION:Inland
GEO:0.000000;0.000000
ORGANIZER;CN="ViFa-Recht":MAILTO:vifa-recht@sbb.spk-berlin.de
URL;VALUE=URI:https://events.intrecht.de/termine/termin/anti-konsequentiali
 smus-im-strafrecht-akademievorlesung-denken-forschen-urteilen-aufklaerung-i
 n-den-wissenschaften-heute/
END:VEVENT
BEGIN:VTIMEZONE
TZID:Europe/Berlin
BEGIN:STANDARD
TZOFFSETFROM:+0200
TZOFFSETTO:+0100
DTSTART:20231029T010000
TZNAME:CET
END:STANDARD
END:VTIMEZONE
END:VCALENDAR
