BEGIN:VCALENDAR
VERSION:2.0
PRODID:-//Events | FID-Recht//NONSGML Events//EN
CALSCALE:GREGORIAN
X-ORIGINAL-URL:https://events.intrecht.de/termine/
X-WR-CALDESC:Events | FID-Recht - Events
BEGIN:VEVENT
UID:20200603T1418Z-1591193923.3362-EO-587-1@172.16.200.141
STATUS:CONFIRMED
DTSTAMP:20260421T234915Z
CREATED:20230821T132721Z
LAST-MODIFIED:20230821T133455Z
DTSTART;VALUE=DATE:20240304
DTEND;VALUE=DATE:20240306
SUMMARY: Annual Workshop on the Vienna School of Jurisprudence and the Pure
  Theory of Law
DESCRIPTION: 4.-5.3.2024 / Nähe Freiburg (Frist für Einreichungen: 31.10.20
 23) https://www.jura.uni-freiburg.de/de/institute/rphil/rtheo/downloads/202
 3-sose/call-for-papers-annual-workshop-on-the-vienna-school-of-jurisprudenc
 e-and-the-pure-theory-of-law
X-ALT-DESC;FMTTYPE=text/html: <p>4.-5.3.2024 / Nähe Freiburg <strong>(Frist
  für Einreichungen: 31.10.2023)</strong></p><p><a href="https://www.jura.un
 i-freiburg.de/de/institute/rphil/rtheo/downloads/2023-sose/call-for-papers-
 annual-workshop-on-the-vienna-school-of-jurisprudence-and-the-pure-theory-o
 f-law">https://www.jura.uni-freiburg.de/de/institute/rphil/rtheo/downloads/
 2023-sose/call-for-papers-annual-workshop-on-the-vienna-school-of-jurisprud
 ence-and-the-pure-theory-of-law</a></p><p>[av_button label='iCal-Export' li
 nk='./feed/eo-events' link_target='' size='small' position='center' label_d
 isplay='' title_attr='' icon_select='yes' icon='ue85b' font='entypo-fontell
 o' color='custom' custom_bg='#b5123e' custom_font='#ffffff' av_uid='' id=''
  custom_class='' admin_preview_bg='']</p>
CATEGORIES:Recht interdisziplinär
LOCATION:Inland
GEO:0.000000;0.000000
ORGANIZER;CN="ViFa-Recht":MAILTO:vifa-recht@sbb.spk-berlin.de
URL;VALUE=URI:https://events.intrecht.de/termine/termin/annual-workshop-on-
 the-vienna-school-of-jurisprudence-and-the-pure-theory-of-law-2/
END:VEVENT
BEGIN:VTIMEZONE
TZID:Europe/Berlin
BEGIN:STANDARD
TZOFFSETFROM:+0200
TZOFFSETTO:+0100
DTSTART:20231029T010000
TZNAME:CET
END:STANDARD
END:VTIMEZONE
END:VCALENDAR
