BEGIN:VCALENDAR
VERSION:2.0
PRODID:-//Events | FID-Recht//NONSGML Events//EN
CALSCALE:GREGORIAN
X-ORIGINAL-URL:https://events.intrecht.de/termine/
X-WR-CALDESC:Events | FID-Recht - Events
BEGIN:VEVENT
UID:20210328T2243Z-1616971417.725-EO-2294-1@172.16.200.141
STATUS:CONFIRMED
DTSTAMP:20260422T112244Z
CREATED:20210319T172241Z
LAST-MODIFIED:20210319T172241Z
DTSTART;VALUE=DATE:20210831
DTEND;VALUE=DATE:20210904
SUMMARY: Annual Conference of the Society of Legal Scholars (SLS) (Online-K
 onferenz)
DESCRIPTION: 31.8.-3.9.2021\, Durham/Online (Frist für Einreichungen: 26.3.
 2021) https://www.slsconference.com  
X-ALT-DESC;FMTTYPE=text/html: <p>31.8.-3.9.2021\, Durham/Online (Frist für 
 Einreichungen: 26.3.2021)</p><p><a href="https://www.slsconference.com">htt
 ps://www.slsconference.com</a></p><p> </p><p>[av_button label='iCal-Export'
  link='./feed/eo-events' link_target='' size='small' position='center' labe
 l_display='' title_attr='' icon_select='yes' icon='ue85b' font='entypo-font
 ello' color='custom' custom_bg='#b5123e' custom_font='#ffffff' av_uid='' id
 ='' custom_class='' admin_preview_bg='']</p>
CATEGORIES:Recht interdisziplinär
LOCATION:Online
GEO:0.000000;0.000000
ORGANIZER;CN="ViFa-Recht":MAILTO:vifa-recht@sbb.spk-berlin.de
URL;VALUE=URI:https://events.intrecht.de/termine/termin/annual-conference-o
 f-the-society-of-legal-scholars-sls-online-konferenz/
END:VEVENT
BEGIN:VTIMEZONE
TZID:Europe/Berlin
BEGIN:DAYLIGHT
TZOFFSETFROM:+0100
TZOFFSETTO:+0200
DTSTART:20210328T010000
TZNAME:CEST
END:DAYLIGHT
END:VTIMEZONE
END:VCALENDAR
