BEGIN:VCALENDAR
VERSION:2.0
PRODID:-//Events | FID-Recht//NONSGML Events//EN
CALSCALE:GREGORIAN
X-ORIGINAL-URL:https://events.intrecht.de/termine/
X-WR-CALDESC:Events | FID-Recht - Events
BEGIN:VEVENT
UID:20200603T1418Z-1591193923.3362-EO-587-1@172.16.200.141
STATUS:CONFIRMED
DTSTAMP:20260425T151213Z
CREATED:20230419T090155Z
LAST-MODIFIED:20230419T090155Z
DTSTART;VALUE=DATE:20230831
DTEND;VALUE=DATE:20230903
SUMMARY: Annual Conference of the European Society of International Law: Is
  international law fair?
DESCRIPTION: 31.8.-2.9.2023 / Aix-en-Provence (Preceded by Interest Group w
 orkshops on 30-31.8.2023) https://www.esilaix2023.fr/_files/ugd/4be176_c010
 1a70bfe8497eb7dd3025a9787b59.pdf
X-ALT-DESC;FMTTYPE=text/html: <p>31.8.-2.9.2023 / Aix-en-Provence (Preceded
  by Interest Group workshops on 30-31.8.2023)</p><p><a href="https://www.es
 ilaix2023.fr/_files/ugd/4be176_c0101a70bfe8497eb7dd3025a9787b59.pdf">https:
 //www.esilaix2023.fr/_files/ugd/4be176_c0101a70bfe8497eb7dd3025a9787b59.pdf
 </a></p><p>[av_button label='iCal-Export' link='./feed/eo-events' link_targ
 et='' size='small' position='center' label_display='' title_attr='' icon_se
 lect='yes' icon='ue85b' font='entypo-fontello' color='custom' custom_bg='#b
 5123e' custom_font='#ffffff' av_uid='' id='' custom_class='' admin_preview_
 bg='']</p>
CATEGORIES:Europäisches / Internationales Recht
LOCATION:Ausland
GEO:0.000000;0.000000
ORGANIZER;CN="ViFa-Recht":MAILTO:vifa-recht@sbb.spk-berlin.de
URL;VALUE=URI:https://events.intrecht.de/termine/termin/annual-conference-o
 f-the-european-society-of-international-law-is-international-law-fair/
END:VEVENT
BEGIN:VTIMEZONE
TZID:Europe/Berlin
BEGIN:DAYLIGHT
TZOFFSETFROM:+0100
TZOFFSETTO:+0200
DTSTART:20230326T010000
TZNAME:CEST
END:DAYLIGHT
END:VTIMEZONE
END:VCALENDAR
