BEGIN:VCALENDAR
VERSION:2.0
PRODID:-//Events | FID-Recht//NONSGML Events//EN
CALSCALE:GREGORIAN
X-ORIGINAL-URL:https://events.intrecht.de/termine/
X-WR-CALDESC:Events | FID-Recht - Events
BEGIN:VEVENT
UID:20200603T1418Z-1591193923.3362-EO-587-1@172.16.200.141
STATUS:CONFIRMED
DTSTAMP:20260425T200138Z
CREATED:20240719T130942Z
LAST-MODIFIED:20240719T130942Z
DTSTART;VALUE=DATE:20240919
DTEND;VALUE=DATE:20240922
SUMMARY: Annual Conference of the European China Law Studies Association (E
 CLS)
DESCRIPTION: 19.-21.9.2024 / Hongkong https://webapp3.law.cuhk.edu.hk/conf/
 20240919/
X-ALT-DESC;FMTTYPE=text/html: <p>19.-21.9.2024 / Hongkong</p><p><a href="ht
 tps://webapp3.law.cuhk.edu.hk/conf/20240919/">https://webapp3.law.cuhk.edu.
 hk/conf/20240919/</a></p><p>[av_button label='iCal-Export' link='./feed/eo-
 events' link_target='' size='small' position='center' label_display='' titl
 e_attr='' icon_select='yes' icon='ue85b' font='entypo-fontello' color='cust
 om' custom_bg='#b5123e' custom_font='#ffffff' av_uid='' id='' custom_class=
 '' admin_preview_bg='']</p>
CATEGORIES:Europäisches / Internationales Recht
LOCATION:Ausland
GEO:0.000000;0.000000
ORGANIZER;CN="ViFa-Recht":MAILTO:vifa-recht@sbb.spk-berlin.de
URL;VALUE=URI:https://events.intrecht.de/termine/termin/annual-conference-o
 f-the-european-china-law-studies-association-ecls/
END:VEVENT
BEGIN:VTIMEZONE
TZID:Europe/Berlin
BEGIN:DAYLIGHT
TZOFFSETFROM:+0100
TZOFFSETTO:+0200
DTSTART:20240331T010000
TZNAME:CEST
END:DAYLIGHT
END:VTIMEZONE
END:VCALENDAR
