BEGIN:VCALENDAR
VERSION:2.0
PRODID:-//Events | FID-Recht//NONSGML Events//EN
CALSCALE:GREGORIAN
X-ORIGINAL-URL:https://events.intrecht.de/termine/
X-WR-CALDESC:Events | FID-Recht - Events
BEGIN:VEVENT
UID:20200603T1418Z-1591193923.3362-EO-587-1@172.16.200.141
STATUS:CONFIRMED
DTSTAMP:20260422T110655Z
CREATED:20240417T125914Z
LAST-MODIFIED:20240417T125914Z
DTSTART;VALUE=DATE:20240502
DTEND;VALUE=DATE:20240503
SUMMARY: Animals as Legal Beings: Toward a Post-Anthropocentric Legal Ontol
 ogy (Hybrid Lecture)
DESCRIPTION: 2.5.2024 / Online und Hamburg https://events.mpipriv.de/guest_
 lecture_by_maneesha_deckha
X-ALT-DESC;FMTTYPE=text/html: <p>2.5.2024 / Online und Hamburg</p><p><a hre
 f="https://events.mpipriv.de/guest_lecture_by_maneesha_deckha">https://even
 ts.mpipriv.de/guest_lecture_by_maneesha_deckha</a></p><p>[av_button label='
 iCal-Export' link='./feed/eo-events' link_target='' size='small' position='
 center' label_display='' title_attr='' icon_select='yes' icon='ue85b' font=
 'entypo-fontello' color='custom' custom_bg='#b5123e' custom_font='#ffffff' 
 av_uid='' id='' custom_class='' admin_preview_bg='']</p>
CATEGORIES:Recht interdisziplinär
LOCATION:Hybrid
GEO:0.000000;0.000000
ORGANIZER;CN="ViFa-Recht":MAILTO:vifa-recht@sbb.spk-berlin.de
URL;VALUE=URI:https://events.intrecht.de/termine/termin/animals-as-legal-be
 ings-toward-a-post-anthropocentric-legal-ontology-hybrid-lecture/
END:VEVENT
BEGIN:VTIMEZONE
TZID:Europe/Berlin
BEGIN:DAYLIGHT
TZOFFSETFROM:+0100
TZOFFSETTO:+0200
DTSTART:20240331T010000
TZNAME:CEST
END:DAYLIGHT
END:VTIMEZONE
END:VCALENDAR
