BEGIN:VCALENDAR
VERSION:2.0
PRODID:-//Events | FID-Recht//NONSGML Events//EN
CALSCALE:GREGORIAN
X-ORIGINAL-URL:https://events.intrecht.de/termine/
X-WR-CALDESC:Events | FID-Recht - Events
BEGIN:VEVENT
UID:20200603T1418Z-1591193923.3362-EO-587-1@172.16.200.141
STATUS:CONFIRMED
DTSTAMP:20260422T211645Z
CREATED:20250110T141743Z
LAST-MODIFIED:20250110T141743Z
DTSTART;VALUE=DATE:20250206
DTEND;VALUE=DATE:20250207
SUMMARY: Animal Welfare – Representation Now\, Rights Maybe Later: Urgent M
 easures on the Regional\, National and Global Level (Hybrid Event)
DESCRIPTION: 6.2.2025 / Online und Hamburg https://events.mpipriv.de/b?p=co
 mparative_animal_law_with_antoine_goetschel
X-ALT-DESC;FMTTYPE=text/html: <p>6.2.2025 / Online und Hamburg</p><p><a hre
 f="https://events.mpipriv.de/b?p=comparative_animal_law_with_antoine_goetsc
 hel">https://events.mpipriv.de/b?p=comparative_animal_law_with_antoine_goet
 schel</a></p><p>[av_button label='iCal-Export' link='./feed/eo-events' link
 _target='' size='small' position='center' label_display='' title_attr='' ic
 on_select='yes' icon='ue85b' font='entypo-fontello' color='custom' custom_b
 g='#b5123e' custom_font='#ffffff' av_uid='' id='' custom_class='' admin_pre
 view_bg='']</p>
CATEGORIES:Recht interdisziplinär
LOCATION:Hybrid
GEO:0.000000;0.000000
ORGANIZER;CN="ViFa-Recht":MAILTO:vifa-recht@sbb.spk-berlin.de
URL;VALUE=URI:https://events.intrecht.de/termine/termin/animal-welfare-repr
 esentation-now-rights-maybe-later-urgent-measures-on-the-regional-national-
 and-global-level-hybrid-event/
END:VEVENT
BEGIN:VTIMEZONE
TZID:Europe/Berlin
BEGIN:STANDARD
TZOFFSETFROM:+0200
TZOFFSETTO:+0100
DTSTART:20241027T010000
TZNAME:CET
END:STANDARD
END:VTIMEZONE
END:VCALENDAR
