BEGIN:VCALENDAR
VERSION:2.0
PRODID:-//Events | FID-Recht//NONSGML Events//EN
CALSCALE:GREGORIAN
X-ORIGINAL-URL:https://events.intrecht.de/termine/
X-WR-CALDESC:Events | FID-Recht - Events
BEGIN:VEVENT
UID:20200602T0945Z-1591091115.9737-EO-599-1@172.16.200.141
STATUS:CONFIRMED
DTSTAMP:20260423T003341Z
CREATED:20251124T150807Z
LAST-MODIFIED:20251124T150807Z
DTSTART;VALUE=DATE:20251209
DTEND;VALUE=DATE:20251210
SUMMARY: Animal Minds in Legal History (Hamburg Forum on Comparative Animal
  Law / Hybrid Event)
DESCRIPTION: 9.12.2025 / Online und Hamburg https://events.mpipriv.de/b?p=h
 amburg_forum_on_comparative_animal_law_shira_shmuely
X-ALT-DESC;FMTTYPE=text/html: <p>9.12.2025 / Online und Hamburg</p><p><a hr
 ef="https://events.mpipriv.de/b?p=hamburg_forum_on_comparative_animal_law_s
 hira_shmuely">https://events.mpipriv.de/b?p=hamburg_forum_on_comparative_an
 imal_law_shira_shmuely</a></p><p>[av_button label='iCal-Export' link='./fee
 d/eo-events' link_target='' size='small' position='center' label_display=''
  title_attr='' icon_select='yes' icon='ue85b' font='entypo-fontello' color=
 'custom' custom_bg='#b5123e' custom_font='#ffffff' av_uid='' id='' custom_c
 lass='' admin_preview_bg='']</p>
CATEGORIES:Recht interdisziplinär
LOCATION:Hybrid
GEO:0.000000;0.000000
ORGANIZER;CN="ViFa-Recht":MAILTO:vifa-recht@sbb.spk-berlin.de
URL;VALUE=URI:https://events.intrecht.de/termine/termin/animal-minds-in-leg
 al-history-hamburg-forum-on-comparative-animal-law-hybrid-event/
END:VEVENT
BEGIN:VTIMEZONE
TZID:Europe/Berlin
BEGIN:STANDARD
TZOFFSETFROM:+0200
TZOFFSETTO:+0100
DTSTART:20251026T010000
TZNAME:CET
END:STANDARD
END:VTIMEZONE
END:VCALENDAR
