BEGIN:VCALENDAR
VERSION:2.0
PRODID:-//Events | FID-Recht//NONSGML Events//EN
CALSCALE:GREGORIAN
X-ORIGINAL-URL:https://events.intrecht.de/termine/
X-WR-CALDESC:Events | FID-Recht - Events
BEGIN:VEVENT
UID:20200603T1418Z-1591193923.3362-EO-587-1@172.16.200.141
STATUS:CONFIRMED
DTSTAMP:20260423T003348Z
CREATED:20250513T133848Z
LAST-MODIFIED:20250513T133848Z
DTSTART;VALUE=DATE:20250514
DTEND;VALUE=DATE:20250515
SUMMARY: Analyse eines verdrängten Konflikts: Ruanda\, M23 und die Demokrat
 ische Republik Kongo (Vortrag / Völkerrechtliche Tagesthemen)
DESCRIPTION: 14.5.2025 / Kiel https://www.uni-kiel.de/de/jura/forschung/wsi
 /veranstaltungen/voelkerrechtliche-tagesthemen
X-ALT-DESC;FMTTYPE=text/html: <p>14.5.2025 / Kiel</p><p><a href="https://ww
 w.uni-kiel.de/de/jura/forschung/wsi/veranstaltungen/voelkerrechtliche-tages
 themen">https://www.uni-kiel.de/de/jura/forschung/wsi/veranstaltungen/voelk
 errechtliche-tagesthemen</a></p><p>[av_button label='iCal-Export' link='./f
 eed/eo-events' link_target='' size='small' position='center' label_display=
 '' title_attr='' icon_select='yes' icon='ue85b' font='entypo-fontello' colo
 r='custom' custom_bg='#b5123e' custom_font='#ffffff' av_uid='' id='' custom
 _class='' admin_preview_bg='']</p>
CATEGORIES:Europäisches / Internationales Recht
LOCATION:Inland
GEO:0.000000;0.000000
ORGANIZER;CN="ViFa-Recht":MAILTO:vifa-recht@sbb.spk-berlin.de
URL;VALUE=URI:https://events.intrecht.de/termine/termin/analyse-eines-verdr
 aengten-konflikts-ruanda-m23-und-die-demokratische-republik-kongo-vortrag-v
 oelkerrechtliche-tagesthemen/
END:VEVENT
BEGIN:VTIMEZONE
TZID:Europe/Berlin
BEGIN:DAYLIGHT
TZOFFSETFROM:+0100
TZOFFSETTO:+0200
DTSTART:20250330T010000
TZNAME:CEST
END:DAYLIGHT
END:VTIMEZONE
END:VCALENDAR
