BEGIN:VCALENDAR
VERSION:2.0
PRODID:-//Events | FID-Recht//NONSGML Events//EN
CALSCALE:GREGORIAN
X-ORIGINAL-URL:https://events.intrecht.de/termine/
X-WR-CALDESC:Events | FID-Recht - Events
BEGIN:VEVENT
UID:20200603T1418Z-1591193923.3362-EO-587-1@172.16.200.141
STATUS:CONFIRMED
DTSTAMP:20260422T110457Z
CREATED:20231219T085610Z
LAST-MODIFIED:20231219T085610Z
DTSTART;VALUE=DATE:20240111
DTEND;VALUE=DATE:20240112
SUMMARY: Analyse des bäuerlichen Bodenrechts anhand einer Stakeholder­befra
 gung am Beispiel Deutschlands (Hybrid-Event)
DESCRIPTION: 11.1.2024 / Online und Luzern https://www.unilu.ch/fakultaeten
 /rf/veranstaltungen/die-wertschoepfungskette-im-agrar-und-lebensmittelberei
 ch-zwischen-selbststeuerung-und-staatlicher-regulierung-1-1-1-8116/
X-ALT-DESC;FMTTYPE=text/html: <p>11.1.2024 / Online und Luzern</p><p><a hre
 f="https://www.unilu.ch/fakultaeten/rf/veranstaltungen/die-wertschoepfungsk
 ette-im-agrar-und-lebensmittelbereich-zwischen-selbststeuerung-und-staatlic
 her-regulierung-1-1-1-8116/">https://www.unilu.ch/fakultaeten/rf/veranstalt
 ungen/die-wertschoepfungskette-im-agrar-und-lebensmittelbereich-zwischen-se
 lbststeuerung-und-staatlicher-regulierung-1-1-1-8116/</a></p><p>[av_button 
 label='iCal-Export' link='./feed/eo-events' link_target='' size='small' pos
 ition='center' label_display='' title_attr='' icon_select='yes' icon='ue85b
 ' font='entypo-fontello' color='custom' custom_bg='#b5123e' custom_font='#f
 fffff' av_uid='' id='' custom_class='' admin_preview_bg='']</p>
CATEGORIES:Recht interdisziplinär
LOCATION:Online
GEO:0.000000;0.000000
ORGANIZER;CN="ViFa-Recht":MAILTO:vifa-recht@sbb.spk-berlin.de
URL;VALUE=URI:https://events.intrecht.de/termine/termin/analyse-des-baeuerl
 ichen-bodenrechts-anhand-einer-stakeholderbefragung-am-beispiel-deutschland
 s-hybrid-event/
END:VEVENT
BEGIN:VTIMEZONE
TZID:Europe/Berlin
BEGIN:STANDARD
TZOFFSETFROM:+0200
TZOFFSETTO:+0100
DTSTART:20231029T010000
TZNAME:CET
END:STANDARD
END:VTIMEZONE
END:VCALENDAR
