BEGIN:VCALENDAR
VERSION:2.0
PRODID:-//Events | FID-Recht//NONSGML Events//EN
CALSCALE:GREGORIAN
X-ORIGINAL-URL:https://events.intrecht.de/termine/
X-WR-CALDESC:Events | FID-Recht - Events
BEGIN:VEVENT
UID:20201217T0325Z-1608175550.9779-EO-2231-1@172.16.200.141
STATUS:CONFIRMED
DTSTAMP:20260421T102818Z
CREATED:20201211T181235Z
LAST-MODIFIED:20201211T181235Z
DTSTART;VALUE=DATE:20201214
DTEND;VALUE=DATE:20201214
SUMMARY: An Election Like no Other? Constitutionalist Lessons from the U.S.
  2020 (mit Jan Werner Müller\, Kim Lane Scheppele\, Keith Whittington und E
 rtug Tombus) (Online-Symposium)
DESCRIPTION: 14.12.2020\, Online https://www.sowi.hu-berlin.de/de/lehrberei
 che/osteuropa/constitutionalist-lessons-from-the-u-s-2020  
X-ALT-DESC;FMTTYPE=text/html: <p>14.12.2020\, Online</p><p><a href="https:/
 /www.sowi.hu-berlin.de/de/lehrbereiche/osteuropa/constitutionalist-lessons-
 from-the-u-s-2020">https://www.sowi.hu-berlin.de/de/lehrbereiche/osteuropa/
 constitutionalist-lessons-from-the-u-s-2020</a></p><p> </p><p>[av_button la
 bel='iCal-Export' link='./feed/eo-events' link_target='' size='small' posit
 ion='center' label_display='' title_attr='' icon_select='yes' icon='ue85b' 
 font='entypo-fontello' color='custom' custom_bg='#b5123e' custom_font='#fff
 fff' av_uid='' id='' custom_class='' admin_preview_bg='']</p>
CATEGORIES:Öffentliches Recht
LOCATION:Online
GEO:0.000000;0.000000
ORGANIZER;CN="ViFa-Recht":MAILTO:vifa-recht@sbb.spk-berlin.de
URL;VALUE=URI:https://events.intrecht.de/termine/termin/an-election-like-no
 -other-constitutionalist-lessons-from-the-u-s-2020-mit-jan-werner-mueller-k
 im-lane-scheppele-keith-whittington-und-ertug-tombus-online-symposium/
END:VEVENT
BEGIN:VTIMEZONE
TZID:Europe/Berlin
BEGIN:STANDARD
TZOFFSETFROM:+0200
TZOFFSETTO:+0100
DTSTART:20201025T010000
TZNAME:CET
END:STANDARD
END:VTIMEZONE
END:VCALENDAR
