BEGIN:VCALENDAR
VERSION:2.0
PRODID:-//Events | FID-Recht//NONSGML Events//EN
CALSCALE:GREGORIAN
X-ORIGINAL-URL:https://events.intrecht.de/termine/
X-WR-CALDESC:Events | FID-Recht - Events
BEGIN:VEVENT
UID:20200603T1418Z-1591193923.3362-EO-587-1@172.16.200.141
STATUS:CONFIRMED
DTSTAMP:20260422T141619Z
CREATED:20240124T103431Z
LAST-MODIFIED:20240124T103431Z
DTSTART;VALUE=DATE:20240315
DTEND;VALUE=DATE:20240317
SUMMARY: An die Gerichtsakten\, fertig\, los! (Nachwuchsworkshop des Netzwe
 rks Reichsgerichtsbarkeit)
DESCRIPTION: 15.-16.3.2024 / Wetzlar (Einreichungsfrist: 31.1.2024) https:/
 /www.hsozkult.de/searching/id/event-141002?title=an-die-gerichtsakten-ferti
 g-los&recno=6&q=rechtswissenschaft&sort=newestPublished&fq=&total=1742
X-ALT-DESC;FMTTYPE=text/html: <p>15.-16.3.2024 / Wetzlar <strong>(Einreichu
 ngsfrist: 31.1.2024)</strong></p><p><a href="https://www.hsozkult.de/search
 ing/id/event-141002?title=an-die-gerichtsakten-fertig-los&recno=6&q=rechtsw
 issenschaft&sort=newestPublished&fq=&total=1742">https://www.hsozkult.de/se
 arching/id/event-141002?title=an-die-gerichtsakten-fertig-los&recno=6&q=rec
 htswissenschaft&sort=newestPublished&fq=&total=1742</a></p><p>[av_button la
 bel='iCal-Export' link='./feed/eo-events' link_target='' size='small' posit
 ion='center' label_display='' title_attr='' icon_select='yes' icon='ue85b' 
 font='entypo-fontello' color='custom' custom_bg='#b5123e' custom_font='#fff
 fff' av_uid='' id='' custom_class='' admin_preview_bg='']</p>
CATEGORIES:Recht interdisziplinär
LOCATION:Inland
GEO:0.000000;0.000000
ORGANIZER;CN="ViFa-Recht":MAILTO:vifa-recht@sbb.spk-berlin.de
URL;VALUE=URI:https://events.intrecht.de/termine/termin/an-die-gerichtsakte
 n-fertig-los-nachwuchsworkshop-des-netzwerks-reichsgerichtsbarkeit/
END:VEVENT
BEGIN:VTIMEZONE
TZID:Europe/Berlin
BEGIN:STANDARD
TZOFFSETFROM:+0200
TZOFFSETTO:+0100
DTSTART:20231029T010000
TZNAME:CET
END:STANDARD
END:VTIMEZONE
END:VCALENDAR
