BEGIN:VCALENDAR
VERSION:2.0
PRODID:-//Events | FID-Recht//NONSGML Events//EN
CALSCALE:GREGORIAN
X-ORIGINAL-URL:https://events.intrecht.de/termine/
X-WR-CALDESC:Events | FID-Recht - Events
BEGIN:VEVENT
UID:20200603T1418Z-1591193923.3362-EO-587-1@172.16.200.141
STATUS:CONFIRMED
DTSTAMP:20260422T125346Z
CREATED:20231214T113340Z
LAST-MODIFIED:20231214T113340Z
DTSTART;VALUE=DATE:20240110
DTEND;VALUE=DATE:20240111
SUMMARY: An Analysis of the Obligations in International Law to Environment
 ally Remediate Munitions Dumped in the Baltic Sea (Vortrag / Völkerrechtlic
 he Tagesthemen)
DESCRIPTION: 10.1.2024 / Online und Kiel https://www.wsi.uni-kiel.de/de/ver
 anstaltungen/voelkerrechtliche-tagesthemen/voelkerrechtliche-tagesthemen-an
 -analysis-of-the-obligations-in-international-law-to-environmentally-remedi
 ate-munitions-dumped-in-the-baltic-sea-with-grant-dawson
X-ALT-DESC;FMTTYPE=text/html: <p>10.1.2024 / Online und Kiel</p><p><a href=
 "https://www.wsi.uni-kiel.de/de/veranstaltungen/voelkerrechtliche-tagesthem
 en/voelkerrechtliche-tagesthemen-an-analysis-of-the-obligations-in-internat
 ional-law-to-environmentally-remediate-munitions-dumped-in-the-baltic-sea-w
 ith-grant-dawson">https://www.wsi.uni-kiel.de/de/veranstaltungen/voelkerrec
 htliche-tagesthemen/voelkerrechtliche-tagesthemen-an-analysis-of-the-obliga
 tions-in-international-law-to-environmentally-remediate-munitions-dumped-in
 -the-baltic-sea-with-grant-dawson</a></p><p>[av_button label='iCal-Export' 
 link='./feed/eo-events' link_target='' size='small' position='center' label
 _display='' title_attr='' icon_select='yes' icon='ue85b' font='entypo-fonte
 llo' color='custom' custom_bg='#b5123e' custom_font='#ffffff' av_uid='' id=
 '' custom_class='' admin_preview_bg='']</p>
CATEGORIES:Europäisches / Internationales Recht
LOCATION:Online
GEO:0.000000;0.000000
ORGANIZER;CN="ViFa-Recht":MAILTO:vifa-recht@sbb.spk-berlin.de
URL;VALUE=URI:https://events.intrecht.de/termine/termin/an-analysis-of-the-
 obligations-in-international-law-to-environmentally-remediate-munitions-dum
 ped-in-the-baltic-sea-vortrag-voelkerrechtliche-tagesthemen/
END:VEVENT
BEGIN:VTIMEZONE
TZID:Europe/Berlin
BEGIN:STANDARD
TZOFFSETFROM:+0200
TZOFFSETTO:+0100
DTSTART:20231029T010000
TZNAME:CET
END:STANDARD
END:VTIMEZONE
END:VCALENDAR
